BEGIN:VCALENDAR
VERSION:2.0
PRODID:https://www.kufer.de/kuferweb / DE
METHOD:PUBLISH
CALSCALE:GREGORIAN
X-WR-TIMEZONE:Europe/Berlin
BEGIN:VTIMEZONE
TZID:Europe/Berlin
X-LIC-LOCATION:Europe/Berlin
BEGIN:DAYLIGHT
TZOFFSETFROM:+0100
TZOFFSETTO:+0200
TZNAME:CEST
DTSTART:19700329T020000
RRULE:FREQ=YEARLY;INTERVAL=1;BYDAY=-1SU;BYMONTH=3
END:DAYLIGHT
BEGIN:STANDARD
TZOFFSETFROM:+0200
TZOFFSETTO:+0100
TZNAME:CET
DTSTART:19701025T030000
RRULE:FREQ=YEARLY;INTERVAL=1;BYDAY=-1SU;BYMONTH=10
END:STANDARD
END:VTIMEZONE
BEGIN:VEVENT
DTSTAMP:20260421T005805
DTSTART;TZID=Europe/Berlin:20260928T093000
DTEND;TZID=Europe/Berlin:20260928T110000
UID:2602653013-20260928T093000@DÜSSELDORF ASG-BILDUNGSFORUM
SUMMARY:Elternstart NRW mit Elementen aus Babymassage und Rückbildung Für Mütter und Babys ab 5 Wochen bis 5 Monate (2602653013) 
LOCATION:ASG-R43;U3-Gruppe, Rather Kreuzweg 43, 40472 Düsseldorf
END:VEVENT
BEGIN:VEVENT
DTSTAMP:20260421T005805
DTSTART;TZID=Europe/Berlin:20261005T093000
DTEND;TZID=Europe/Berlin:20261005T110000
UID:2602653013-20261005T093000@DÜSSELDORF ASG-BILDUNGSFORUM
SUMMARY:Elternstart NRW mit Elementen aus Babymassage und Rückbildung Für Mütter und Babys ab 5 Wochen bis 5 Monate (2602653013) 
LOCATION:ASG-R43;U3-Gruppe, Rather Kreuzweg 43, 40472 Düsseldorf
END:VEVENT
BEGIN:VEVENT
DTSTAMP:20260421T005805
DTSTART;TZID=Europe/Berlin:20261012T093000
DTEND;TZID=Europe/Berlin:20261012T110000
UID:2602653013-20261012T093000@DÜSSELDORF ASG-BILDUNGSFORUM
SUMMARY:Elternstart NRW mit Elementen aus Babymassage und Rückbildung Für Mütter und Babys ab 5 Wochen bis 5 Monate (2602653013) 
LOCATION:ASG-R43;U3-Gruppe, Rather Kreuzweg 43, 40472 Düsseldorf
END:VEVENT
BEGIN:VEVENT
DTSTAMP:20260421T005805
DTSTART;TZID=Europe/Berlin:20261019T093000
DTEND;TZID=Europe/Berlin:20261019T110000
UID:2602653013-20261019T093000@DÜSSELDORF ASG-BILDUNGSFORUM
SUMMARY:Elternstart NRW mit Elementen aus Babymassage und Rückbildung Für Mütter und Babys ab 5 Wochen bis 5 Monate (2602653013) 
LOCATION:ASG-R43;U3-Gruppe, Rather Kreuzweg 43, 40472 Düsseldorf
END:VEVENT
BEGIN:VEVENT
DTSTAMP:20260421T005805
DTSTART;TZID=Europe/Berlin:20261026T093000
DTEND;TZID=Europe/Berlin:20261026T110000
UID:2602653013-20261026T093000@DÜSSELDORF ASG-BILDUNGSFORUM
SUMMARY:Elternstart NRW mit Elementen aus Babymassage und Rückbildung Für Mütter und Babys ab 5 Wochen bis 5 Monate (2602653013) 
LOCATION:ASG-R43;U3-Gruppe, Rather Kreuzweg 43, 40472 Düsseldorf
END:VEVENT
END:VCALENDAR