BEGIN:VCALENDAR
VERSION:2.0
PRODID:https://www.kufer.de/kuferweb / DE
METHOD:PUBLISH
CALSCALE:GREGORIAN
X-WR-TIMEZONE:Europe/Berlin
BEGIN:VTIMEZONE
TZID:Europe/Berlin
X-LIC-LOCATION:Europe/Berlin
BEGIN:DAYLIGHT
TZOFFSETFROM:+0100
TZOFFSETTO:+0200
TZNAME:CEST
DTSTART:19700329T020000
RRULE:FREQ=YEARLY;INTERVAL=1;BYDAY=-1SU;BYMONTH=3
END:DAYLIGHT
BEGIN:STANDARD
TZOFFSETFROM:+0200
TZOFFSETTO:+0100
TZNAME:CET
DTSTART:19701025T030000
RRULE:FREQ=YEARLY;INTERVAL=1;BYDAY=-1SU;BYMONTH=10
END:STANDARD
END:VTIMEZONE
BEGIN:VEVENT
DTSTAMP:20260421T005036
DTSTART;TZID=Europe/Berlin:20260930T180000
DTEND;TZID=Europe/Berlin:20260930T184500
UID:2602653015-20260930T180000@DÜSSELDORF ASG-BILDUNGSFORUM
SUMMARY:MamaZeit - dein Rückbildungsworkout (2602653015) 
LOCATION:ASG-R43;U3-Gruppe, Rather Kreuzweg 43, 40472 Düsseldorf
END:VEVENT
BEGIN:VEVENT
DTSTAMP:20260421T005036
DTSTART;TZID=Europe/Berlin:20261007T180000
DTEND;TZID=Europe/Berlin:20261007T184500
UID:2602653015-20261007T180000@DÜSSELDORF ASG-BILDUNGSFORUM
SUMMARY:MamaZeit - dein Rückbildungsworkout (2602653015) 
LOCATION:ASG-R43;U3-Gruppe, Rather Kreuzweg 43, 40472 Düsseldorf
END:VEVENT
BEGIN:VEVENT
DTSTAMP:20260421T005036
DTSTART;TZID=Europe/Berlin:20261014T180000
DTEND;TZID=Europe/Berlin:20261014T184500
UID:2602653015-20261014T180000@DÜSSELDORF ASG-BILDUNGSFORUM
SUMMARY:MamaZeit - dein Rückbildungsworkout (2602653015) 
LOCATION:ASG-R43;U3-Gruppe, Rather Kreuzweg 43, 40472 Düsseldorf
END:VEVENT
BEGIN:VEVENT
DTSTAMP:20260421T005036
DTSTART;TZID=Europe/Berlin:20261021T180000
DTEND;TZID=Europe/Berlin:20261021T184500
UID:2602653015-20261021T180000@DÜSSELDORF ASG-BILDUNGSFORUM
SUMMARY:MamaZeit - dein Rückbildungsworkout (2602653015) 
LOCATION:ASG-R43;U3-Gruppe, Rather Kreuzweg 43, 40472 Düsseldorf
END:VEVENT
BEGIN:VEVENT
DTSTAMP:20260421T005036
DTSTART;TZID=Europe/Berlin:20261028T180000
DTEND;TZID=Europe/Berlin:20261028T184500
UID:2602653015-20261028T180000@DÜSSELDORF ASG-BILDUNGSFORUM
SUMMARY:MamaZeit - dein Rückbildungsworkout (2602653015) 
LOCATION:ASG-R43;U3-Gruppe, Rather Kreuzweg 43, 40472 Düsseldorf
END:VEVENT
BEGIN:VEVENT
DTSTAMP:20260421T005036
DTSTART;TZID=Europe/Berlin:20261104T180000
DTEND;TZID=Europe/Berlin:20261104T184500
UID:2602653015-20261104T180000@DÜSSELDORF ASG-BILDUNGSFORUM
SUMMARY:MamaZeit - dein Rückbildungsworkout (2602653015) 
LOCATION:ASG-R43;U3-Gruppe, Rather Kreuzweg 43, 40472 Düsseldorf
END:VEVENT
BEGIN:VEVENT
DTSTAMP:20260421T005036
DTSTART;TZID=Europe/Berlin:20261111T180000
DTEND;TZID=Europe/Berlin:20261111T184500
UID:2602653015-20261111T180000@DÜSSELDORF ASG-BILDUNGSFORUM
SUMMARY:MamaZeit - dein Rückbildungsworkout (2602653015) 
LOCATION:ASG-R43;U3-Gruppe, Rather Kreuzweg 43, 40472 Düsseldorf
END:VEVENT
BEGIN:VEVENT
DTSTAMP:20260421T005036
DTSTART;TZID=Europe/Berlin:20261118T180000
DTEND;TZID=Europe/Berlin:20261118T184500
UID:2602653015-20261118T180000@DÜSSELDORF ASG-BILDUNGSFORUM
SUMMARY:MamaZeit - dein Rückbildungsworkout (2602653015) 
LOCATION:ASG-R43;U3-Gruppe, Rather Kreuzweg 43, 40472 Düsseldorf
END:VEVENT
BEGIN:VEVENT
DTSTAMP:20260421T005036
DTSTART;TZID=Europe/Berlin:20261125T180000
DTEND;TZID=Europe/Berlin:20261125T184500
UID:2602653015-20261125T180000@DÜSSELDORF ASG-BILDUNGSFORUM
SUMMARY:MamaZeit - dein Rückbildungsworkout (2602653015) 
LOCATION:ASG-R43;U3-Gruppe, Rather Kreuzweg 43, 40472 Düsseldorf
END:VEVENT
BEGIN:VEVENT
DTSTAMP:20260421T005036
DTSTART;TZID=Europe/Berlin:20261202T180000
DTEND;TZID=Europe/Berlin:20261202T184500
UID:2602653015-20261202T180000@DÜSSELDORF ASG-BILDUNGSFORUM
SUMMARY:MamaZeit - dein Rückbildungsworkout (2602653015) 
LOCATION:ASG-R43;U3-Gruppe, Rather Kreuzweg 43, 40472 Düsseldorf
END:VEVENT
BEGIN:VEVENT
DTSTAMP:20260421T005036
DTSTART;TZID=Europe/Berlin:20261209T180000
DTEND;TZID=Europe/Berlin:20261209T184500
UID:2602653015-20261209T180000@DÜSSELDORF ASG-BILDUNGSFORUM
SUMMARY:MamaZeit - dein Rückbildungsworkout (2602653015) 
LOCATION:ASG-R43;U3-Gruppe, Rather Kreuzweg 43, 40472 Düsseldorf
END:VEVENT
BEGIN:VEVENT
DTSTAMP:20260421T005036
DTSTART;TZID=Europe/Berlin:20261216T180000
DTEND;TZID=Europe/Berlin:20261216T184500
UID:2602653015-20261216T180000@DÜSSELDORF ASG-BILDUNGSFORUM
SUMMARY:MamaZeit - dein Rückbildungsworkout (2602653015) 
LOCATION:ASG-R43;U3-Gruppe, Rather Kreuzweg 43, 40472 Düsseldorf
END:VEVENT
END:VCALENDAR