BEGIN:VCALENDAR
VERSION:2.0
PRODID:https://www.kufer.de/kuferweb / DE
METHOD:PUBLISH
CALSCALE:GREGORIAN
X-WR-TIMEZONE:Europe/Berlin
BEGIN:VTIMEZONE
TZID:Europe/Berlin
X-LIC-LOCATION:Europe/Berlin
BEGIN:DAYLIGHT
TZOFFSETFROM:+0100
TZOFFSETTO:+0200
TZNAME:CEST
DTSTART:19700329T020000
RRULE:FREQ=YEARLY;INTERVAL=1;BYDAY=-1SU;BYMONTH=3
END:DAYLIGHT
BEGIN:STANDARD
TZOFFSETFROM:+0200
TZOFFSETTO:+0100
TZNAME:CET
DTSTART:19701025T030000
RRULE:FREQ=YEARLY;INTERVAL=1;BYDAY=-1SU;BYMONTH=10
END:STANDARD
END:VTIMEZONE
BEGIN:VEVENT
DTSTAMP:20260419T151304
DTSTART;TZID=Europe/Berlin:20260504T093000
DTEND;TZID=Europe/Berlin:20260504T150000
UID:2602661957-20260504T093000@DÜSSELDORF ASG-BILDUNGSFORUM
SUMMARY:Ganzheitliches Stressmanagement mit Ayurveda und Achtsamkeit Bildungsurlaub / Intensivkurs in einer Kleingruppe (2602661957) 
LOCATION:ASG-G90;5.01, Gerresheimer Straße 90, 40233 Düsseldorf
END:VEVENT
BEGIN:VEVENT
DTSTAMP:20260419T151304
DTSTART;TZID=Europe/Berlin:20260505T093000
DTEND;TZID=Europe/Berlin:20260505T150000
UID:2602661957-20260505T093000@DÜSSELDORF ASG-BILDUNGSFORUM
SUMMARY:Ganzheitliches Stressmanagement mit Ayurveda und Achtsamkeit Bildungsurlaub / Intensivkurs in einer Kleingruppe (2602661957) 
LOCATION:ASG-G90;5.01, Gerresheimer Straße 90, 40233 Düsseldorf
END:VEVENT
BEGIN:VEVENT
DTSTAMP:20260419T151304
DTSTART;TZID=Europe/Berlin:20260506T093000
DTEND;TZID=Europe/Berlin:20260506T150000
UID:2602661957-20260506T093000@DÜSSELDORF ASG-BILDUNGSFORUM
SUMMARY:Ganzheitliches Stressmanagement mit Ayurveda und Achtsamkeit Bildungsurlaub / Intensivkurs in einer Kleingruppe (2602661957) 
LOCATION:ASG-G90;5.01, Gerresheimer Straße 90, 40233 Düsseldorf
END:VEVENT
BEGIN:VEVENT
DTSTAMP:20260419T151304
DTSTART;TZID=Europe/Berlin:20260507T093000
DTEND;TZID=Europe/Berlin:20260507T150000
UID:2602661957-20260507T093000@DÜSSELDORF ASG-BILDUNGSFORUM
SUMMARY:Ganzheitliches Stressmanagement mit Ayurveda und Achtsamkeit Bildungsurlaub / Intensivkurs in einer Kleingruppe (2602661957) 
LOCATION:ASG-G90;5.01, Gerresheimer Straße 90, 40233 Düsseldorf
END:VEVENT
BEGIN:VEVENT
DTSTAMP:20260419T151304
DTSTART;TZID=Europe/Berlin:20260508T093000
DTEND;TZID=Europe/Berlin:20260508T150000
UID:2602661957-20260508T093000@DÜSSELDORF ASG-BILDUNGSFORUM
SUMMARY:Ganzheitliches Stressmanagement mit Ayurveda und Achtsamkeit Bildungsurlaub / Intensivkurs in einer Kleingruppe (2602661957) 
LOCATION:ASG-G90;5.01, Gerresheimer Straße 90, 40233 Düsseldorf
END:VEVENT
END:VCALENDAR