BEGIN:VCALENDAR
VERSION:2.0
PRODID:https://www.kufer.de/kuferweb / DE
METHOD:PUBLISH
CALSCALE:GREGORIAN
X-WR-TIMEZONE:Europe/Berlin
BEGIN:VTIMEZONE
TZID:Europe/Berlin
X-LIC-LOCATION:Europe/Berlin
BEGIN:DAYLIGHT
TZOFFSETFROM:+0100
TZOFFSETTO:+0200
TZNAME:CEST
DTSTART:19700329T020000
RRULE:FREQ=YEARLY;INTERVAL=1;BYDAY=-1SU;BYMONTH=3
END:DAYLIGHT
BEGIN:STANDARD
TZOFFSETFROM:+0200
TZOFFSETTO:+0100
TZNAME:CET
DTSTART:19701025T030000
RRULE:FREQ=YEARLY;INTERVAL=1;BYDAY=-1SU;BYMONTH=10
END:STANDARD
END:VTIMEZONE
BEGIN:VEVENT
DTSTAMP:20260421T213100
DTSTART;TZID=Europe/Berlin:20260414T193000
DTEND;TZID=Europe/Berlin:20260414T203000
UID:2602662003-20260414T193000@DÜSSELDORF ASG-BILDUNGSFORUM
SUMMARY:Pilates-Training Vorkenntnisse (2602662003) 
LOCATION:ASG-G90-E0.01, Gerresheimer Straße 90, 40233 Düsseldorf
END:VEVENT
BEGIN:VEVENT
DTSTAMP:20260421T213100
DTSTART;TZID=Europe/Berlin:20260428T193000
DTEND;TZID=Europe/Berlin:20260428T203000
UID:2602662003-20260428T193000@DÜSSELDORF ASG-BILDUNGSFORUM
SUMMARY:Pilates-Training Vorkenntnisse (2602662003) 
LOCATION:ASG-G90-E0.01, Gerresheimer Straße 90, 40233 Düsseldorf
END:VEVENT
BEGIN:VEVENT
DTSTAMP:20260421T213100
DTSTART;TZID=Europe/Berlin:20260505T193000
DTEND;TZID=Europe/Berlin:20260505T203000
UID:2602662003-20260505T193000@DÜSSELDORF ASG-BILDUNGSFORUM
SUMMARY:Pilates-Training Vorkenntnisse (2602662003) 
LOCATION:ASG-G90-E0.01, Gerresheimer Straße 90, 40233 Düsseldorf
END:VEVENT
BEGIN:VEVENT
DTSTAMP:20260421T213100
DTSTART;TZID=Europe/Berlin:20260512T193000
DTEND;TZID=Europe/Berlin:20260512T203000
UID:2602662003-20260512T193000@DÜSSELDORF ASG-BILDUNGSFORUM
SUMMARY:Pilates-Training Vorkenntnisse (2602662003) 
LOCATION:ASG-G90-E0.01, Gerresheimer Straße 90, 40233 Düsseldorf
END:VEVENT
BEGIN:VEVENT
DTSTAMP:20260421T213100
DTSTART;TZID=Europe/Berlin:20260519T193000
DTEND;TZID=Europe/Berlin:20260519T203000
UID:2602662003-20260519T193000@DÜSSELDORF ASG-BILDUNGSFORUM
SUMMARY:Pilates-Training Vorkenntnisse (2602662003) 
LOCATION:ASG-G90-E0.01, Gerresheimer Straße 90, 40233 Düsseldorf
END:VEVENT
BEGIN:VEVENT
DTSTAMP:20260421T213100
DTSTART;TZID=Europe/Berlin:20260602T193000
DTEND;TZID=Europe/Berlin:20260602T203000
UID:2602662003-20260602T193000@DÜSSELDORF ASG-BILDUNGSFORUM
SUMMARY:Pilates-Training Vorkenntnisse (2602662003) 
LOCATION:ASG-G90-E0.01, Gerresheimer Straße 90, 40233 Düsseldorf
END:VEVENT
BEGIN:VEVENT
DTSTAMP:20260421T213100
DTSTART;TZID=Europe/Berlin:20260609T193000
DTEND;TZID=Europe/Berlin:20260609T203000
UID:2602662003-20260609T193000@DÜSSELDORF ASG-BILDUNGSFORUM
SUMMARY:Pilates-Training Vorkenntnisse (2602662003) 
LOCATION:ASG-G90-E0.01, Gerresheimer Straße 90, 40233 Düsseldorf
END:VEVENT
BEGIN:VEVENT
DTSTAMP:20260421T213100
DTSTART;TZID=Europe/Berlin:20260616T193000
DTEND;TZID=Europe/Berlin:20260616T203000
UID:2602662003-20260616T193000@DÜSSELDORF ASG-BILDUNGSFORUM
SUMMARY:Pilates-Training Vorkenntnisse (2602662003) 
LOCATION:ASG-G90-E0.01, Gerresheimer Straße 90, 40233 Düsseldorf
END:VEVENT
BEGIN:VEVENT
DTSTAMP:20260421T213100
DTSTART;TZID=Europe/Berlin:20260623T193000
DTEND;TZID=Europe/Berlin:20260623T203000
UID:2602662003-20260623T193000@DÜSSELDORF ASG-BILDUNGSFORUM
SUMMARY:Pilates-Training Vorkenntnisse (2602662003) 
LOCATION:ASG-G90-E0.01, Gerresheimer Straße 90, 40233 Düsseldorf
END:VEVENT
BEGIN:VEVENT
DTSTAMP:20260421T213100
DTSTART;TZID=Europe/Berlin:20260630T193000
DTEND;TZID=Europe/Berlin:20260630T203000
UID:2602662003-20260630T193000@DÜSSELDORF ASG-BILDUNGSFORUM
SUMMARY:Pilates-Training Vorkenntnisse (2602662003) 
LOCATION:ASG-G90-E0.01, Gerresheimer Straße 90, 40233 Düsseldorf
END:VEVENT
BEGIN:VEVENT
DTSTAMP:20260421T213100
DTSTART;TZID=Europe/Berlin:20260707T193000
DTEND;TZID=Europe/Berlin:20260707T203000
UID:2602662003-20260707T193000@DÜSSELDORF ASG-BILDUNGSFORUM
SUMMARY:Pilates-Training Vorkenntnisse (2602662003) 
LOCATION:ASG-G90-E0.01, Gerresheimer Straße 90, 40233 Düsseldorf
END:VEVENT
BEGIN:VEVENT
DTSTAMP:20260421T213100
DTSTART;TZID=Europe/Berlin:20260714T193000
DTEND;TZID=Europe/Berlin:20260714T203000
UID:2602662003-20260714T193000@DÜSSELDORF ASG-BILDUNGSFORUM
DESCRIPTION:NHT für 21.04.2026
SUMMARY:Pilates-Training Vorkenntnisse (2602662003) 
LOCATION:ASG-G90-E0.01, Gerresheimer Straße 90, 40233 Düsseldorf
END:VEVENT
END:VCALENDAR