BEGIN:VCALENDAR
VERSION:2.0
PRODID:https://www.kufer.de/kuferweb / DE
METHOD:PUBLISH
CALSCALE:GREGORIAN
X-WR-TIMEZONE:Europe/Berlin
BEGIN:VTIMEZONE
TZID:Europe/Berlin
X-LIC-LOCATION:Europe/Berlin
BEGIN:DAYLIGHT
TZOFFSETFROM:+0100
TZOFFSETTO:+0200
TZNAME:CEST
DTSTART:19700329T020000
RRULE:FREQ=YEARLY;INTERVAL=1;BYDAY=-1SU;BYMONTH=3
END:DAYLIGHT
BEGIN:STANDARD
TZOFFSETFROM:+0200
TZOFFSETTO:+0100
TZNAME:CET
DTSTART:19701025T030000
RRULE:FREQ=YEARLY;INTERVAL=1;BYDAY=-1SU;BYMONTH=10
END:STANDARD
END:VTIMEZONE
BEGIN:VEVENT
DTSTAMP:20260419T191906
DTSTART;TZID=Europe/Berlin:20260416T143000
DTEND;TZID=Europe/Berlin:20260416T153000
UID:2602662150-20260416T143000@DÜSSELDORF ASG-BILDUNGSFORUM
SUMMARY:Tanz-Fit: Fun & Dance für Erwachsene (2602662150) 
LOCATION:ASG-G90-E0.01, Gerresheimer Straße 90, 40233 Düsseldorf
END:VEVENT
BEGIN:VEVENT
DTSTAMP:20260419T191906
DTSTART;TZID=Europe/Berlin:20260507T143000
DTEND;TZID=Europe/Berlin:20260507T153000
UID:2602662150-20260507T143000@DÜSSELDORF ASG-BILDUNGSFORUM
SUMMARY:Tanz-Fit: Fun & Dance für Erwachsene (2602662150) 
LOCATION:ASG-G90-E0.01, Gerresheimer Straße 90, 40233 Düsseldorf
END:VEVENT
BEGIN:VEVENT
DTSTAMP:20260419T191906
DTSTART;TZID=Europe/Berlin:20260521T143000
DTEND;TZID=Europe/Berlin:20260521T153000
UID:2602662150-20260521T143000@DÜSSELDORF ASG-BILDUNGSFORUM
SUMMARY:Tanz-Fit: Fun & Dance für Erwachsene (2602662150) 
LOCATION:ASG-G90-E0.01, Gerresheimer Straße 90, 40233 Düsseldorf
END:VEVENT
BEGIN:VEVENT
DTSTAMP:20260419T191906
DTSTART;TZID=Europe/Berlin:20260528T143000
DTEND;TZID=Europe/Berlin:20260528T153000
UID:2602662150-20260528T143000@DÜSSELDORF ASG-BILDUNGSFORUM
SUMMARY:Tanz-Fit: Fun & Dance für Erwachsene (2602662150) 
LOCATION:ASG-G90-E0.01, Gerresheimer Straße 90, 40233 Düsseldorf
END:VEVENT
BEGIN:VEVENT
DTSTAMP:20260419T191906
DTSTART;TZID=Europe/Berlin:20260611T143000
DTEND;TZID=Europe/Berlin:20260611T153000
UID:2602662150-20260611T143000@DÜSSELDORF ASG-BILDUNGSFORUM
SUMMARY:Tanz-Fit: Fun & Dance für Erwachsene (2602662150) 
LOCATION:ASG-G90-E0.01, Gerresheimer Straße 90, 40233 Düsseldorf
END:VEVENT
BEGIN:VEVENT
DTSTAMP:20260419T191906
DTSTART;TZID=Europe/Berlin:20260618T143000
DTEND;TZID=Europe/Berlin:20260618T153000
UID:2602662150-20260618T143000@DÜSSELDORF ASG-BILDUNGSFORUM
SUMMARY:Tanz-Fit: Fun & Dance für Erwachsene (2602662150) 
LOCATION:ASG-G90-E0.01, Gerresheimer Straße 90, 40233 Düsseldorf
END:VEVENT
BEGIN:VEVENT
DTSTAMP:20260419T191906
DTSTART;TZID=Europe/Berlin:20260702T143000
DTEND;TZID=Europe/Berlin:20260702T153000
UID:2602662150-20260702T143000@DÜSSELDORF ASG-BILDUNGSFORUM
SUMMARY:Tanz-Fit: Fun & Dance für Erwachsene (2602662150) 
LOCATION:ASG-G90-E0.01, Gerresheimer Straße 90, 40233 Düsseldorf
END:VEVENT
BEGIN:VEVENT
DTSTAMP:20260419T191906
DTSTART;TZID=Europe/Berlin:20260709T143000
DTEND;TZID=Europe/Berlin:20260709T153000
UID:2602662150-20260709T143000@DÜSSELDORF ASG-BILDUNGSFORUM
SUMMARY:Tanz-Fit: Fun & Dance für Erwachsene (2602662150) 
LOCATION:ASG-G90-E0.01, Gerresheimer Straße 90, 40233 Düsseldorf
END:VEVENT
BEGIN:VEVENT
DTSTAMP:20260419T191906
DTSTART;TZID=Europe/Berlin:20260716T143000
DTEND;TZID=Europe/Berlin:20260716T153000
UID:2602662150-20260716T143000@DÜSSELDORF ASG-BILDUNGSFORUM
DESCRIPTION:Ersatz für den 25.06.2026
SUMMARY:Tanz-Fit: Fun & Dance für Erwachsene (2602662150) 
LOCATION:ASG-G90-E0.01, Gerresheimer Straße 90, 40233 Düsseldorf
END:VEVENT
END:VCALENDAR