BEGIN:VCALENDAR
VERSION:2.0
PRODID:https://www.kufer.de/kuferweb / DE
METHOD:PUBLISH
CALSCALE:GREGORIAN
X-WR-TIMEZONE:Europe/Berlin
BEGIN:VTIMEZONE
TZID:Europe/Berlin
X-LIC-LOCATION:Europe/Berlin
BEGIN:DAYLIGHT
TZOFFSETFROM:+0100
TZOFFSETTO:+0200
TZNAME:CEST
DTSTART:19700329T020000
RRULE:FREQ=YEARLY;INTERVAL=1;BYDAY=-1SU;BYMONTH=3
END:DAYLIGHT
BEGIN:STANDARD
TZOFFSETFROM:+0200
TZOFFSETTO:+0100
TZNAME:CET
DTSTART:19701025T030000
RRULE:FREQ=YEARLY;INTERVAL=1;BYDAY=-1SU;BYMONTH=10
END:STANDARD
END:VTIMEZONE
BEGIN:VEVENT
DTSTAMP:20260422T131138
DTSTART;TZID=Europe/Berlin:20260413T180000
DTEND;TZID=Europe/Berlin:20260413T190000
UID:2602662305-20260413T180000@DÜSSELDORF ASG-BILDUNGSFORUM
SUMMARY:Yoga Ruhe in der Bewegung (2602662305) 
LOCATION:Familienzentrum Papst Johannes, Auf der Reide 2, 40468 Düsseldorf
END:VEVENT
BEGIN:VEVENT
DTSTAMP:20260422T131138
DTSTART;TZID=Europe/Berlin:20260420T180000
DTEND;TZID=Europe/Berlin:20260420T190000
UID:2602662305-20260420T180000@DÜSSELDORF ASG-BILDUNGSFORUM
SUMMARY:Yoga Ruhe in der Bewegung (2602662305) 
LOCATION:Familienzentrum Papst Johannes, Auf der Reide 2, 40468 Düsseldorf
END:VEVENT
BEGIN:VEVENT
DTSTAMP:20260422T131138
DTSTART;TZID=Europe/Berlin:20260427T180000
DTEND;TZID=Europe/Berlin:20260427T190000
UID:2602662305-20260427T180000@DÜSSELDORF ASG-BILDUNGSFORUM
SUMMARY:Yoga Ruhe in der Bewegung (2602662305) 
LOCATION:Familienzentrum Papst Johannes, Auf der Reide 2, 40468 Düsseldorf
END:VEVENT
BEGIN:VEVENT
DTSTAMP:20260422T131138
DTSTART;TZID=Europe/Berlin:20260504T180000
DTEND;TZID=Europe/Berlin:20260504T190000
UID:2602662305-20260504T180000@DÜSSELDORF ASG-BILDUNGSFORUM
SUMMARY:Yoga Ruhe in der Bewegung (2602662305) 
LOCATION:Familienzentrum Papst Johannes, Auf der Reide 2, 40468 Düsseldorf
END:VEVENT
BEGIN:VEVENT
DTSTAMP:20260422T131138
DTSTART;TZID=Europe/Berlin:20260511T180000
DTEND;TZID=Europe/Berlin:20260511T190000
UID:2602662305-20260511T180000@DÜSSELDORF ASG-BILDUNGSFORUM
SUMMARY:Yoga Ruhe in der Bewegung (2602662305) 
LOCATION:Familienzentrum Papst Johannes, Auf der Reide 2, 40468 Düsseldorf
END:VEVENT
BEGIN:VEVENT
DTSTAMP:20260422T131138
DTSTART;TZID=Europe/Berlin:20260518T180000
DTEND;TZID=Europe/Berlin:20260518T190000
UID:2602662305-20260518T180000@DÜSSELDORF ASG-BILDUNGSFORUM
SUMMARY:Yoga Ruhe in der Bewegung (2602662305) 
LOCATION:Familienzentrum Papst Johannes, Auf der Reide 2, 40468 Düsseldorf
END:VEVENT
BEGIN:VEVENT
DTSTAMP:20260422T131138
DTSTART;TZID=Europe/Berlin:20260601T180000
DTEND;TZID=Europe/Berlin:20260601T190000
UID:2602662305-20260601T180000@DÜSSELDORF ASG-BILDUNGSFORUM
SUMMARY:Yoga Ruhe in der Bewegung (2602662305) 
LOCATION:Familienzentrum Papst Johannes, Auf der Reide 2, 40468 Düsseldorf
END:VEVENT
BEGIN:VEVENT
DTSTAMP:20260422T131138
DTSTART;TZID=Europe/Berlin:20260608T180000
DTEND;TZID=Europe/Berlin:20260608T190000
UID:2602662305-20260608T180000@DÜSSELDORF ASG-BILDUNGSFORUM
SUMMARY:Yoga Ruhe in der Bewegung (2602662305) 
LOCATION:Familienzentrum Papst Johannes, Auf der Reide 2, 40468 Düsseldorf
END:VEVENT
BEGIN:VEVENT
DTSTAMP:20260422T131138
DTSTART;TZID=Europe/Berlin:20260615T180000
DTEND;TZID=Europe/Berlin:20260615T190000
UID:2602662305-20260615T180000@DÜSSELDORF ASG-BILDUNGSFORUM
SUMMARY:Yoga Ruhe in der Bewegung (2602662305) 
LOCATION:Familienzentrum Papst Johannes, Auf der Reide 2, 40468 Düsseldorf
END:VEVENT
BEGIN:VEVENT
DTSTAMP:20260422T131138
DTSTART;TZID=Europe/Berlin:20260622T180000
DTEND;TZID=Europe/Berlin:20260622T190000
UID:2602662305-20260622T180000@DÜSSELDORF ASG-BILDUNGSFORUM
SUMMARY:Yoga Ruhe in der Bewegung (2602662305) 
LOCATION:Familienzentrum Papst Johannes, Auf der Reide 2, 40468 Düsseldorf
END:VEVENT
BEGIN:VEVENT
DTSTAMP:20260422T131138
DTSTART;TZID=Europe/Berlin:20260629T180000
DTEND;TZID=Europe/Berlin:20260629T190000
UID:2602662305-20260629T180000@DÜSSELDORF ASG-BILDUNGSFORUM
SUMMARY:Yoga Ruhe in der Bewegung (2602662305) 
LOCATION:Familienzentrum Papst Johannes, Auf der Reide 2, 40468 Düsseldorf
END:VEVENT
BEGIN:VEVENT
DTSTAMP:20260422T131138
DTSTART;TZID=Europe/Berlin:20260706T180000
DTEND;TZID=Europe/Berlin:20260706T190000
UID:2602662305-20260706T180000@DÜSSELDORF ASG-BILDUNGSFORUM
SUMMARY:Yoga Ruhe in der Bewegung (2602662305) 
LOCATION:Familienzentrum Papst Johannes, Auf der Reide 2, 40468 Düsseldorf
END:VEVENT
END:VCALENDAR