BEGIN:VCALENDAR
VERSION:2.0
PRODID:https://www.kufer.de/kuferweb / DE
METHOD:PUBLISH
CALSCALE:GREGORIAN
X-WR-TIMEZONE:Europe/Berlin
BEGIN:VTIMEZONE
TZID:Europe/Berlin
X-LIC-LOCATION:Europe/Berlin
BEGIN:DAYLIGHT
TZOFFSETFROM:+0100
TZOFFSETTO:+0200
TZNAME:CEST
DTSTART:19700329T020000
RRULE:FREQ=YEARLY;INTERVAL=1;BYDAY=-1SU;BYMONTH=3
END:DAYLIGHT
BEGIN:STANDARD
TZOFFSETFROM:+0200
TZOFFSETTO:+0100
TZNAME:CET
DTSTART:19701025T030000
RRULE:FREQ=YEARLY;INTERVAL=1;BYDAY=-1SU;BYMONTH=10
END:STANDARD
END:VTIMEZONE
BEGIN:VEVENT
DTSTAMP:20260419T220345
DTSTART;TZID=Europe/Berlin:20260721T183000
DTEND;TZID=Europe/Berlin:20260721T193000
UID:2602662317-20260721T183000@DÜSSELDORF ASG-BILDUNGSFORUM
SUMMARY:Sommerferien - Zumba im Rather Familienzentrum® (2602662317) 
LOCATION:ASG-R43;Saal, Rather Kreuzweg 43, 40472 Düsseldorf
END:VEVENT
BEGIN:VEVENT
DTSTAMP:20260419T220345
DTSTART;TZID=Europe/Berlin:20260728T183000
DTEND;TZID=Europe/Berlin:20260728T193000
UID:2602662317-20260728T183000@DÜSSELDORF ASG-BILDUNGSFORUM
SUMMARY:Sommerferien - Zumba im Rather Familienzentrum® (2602662317) 
LOCATION:ASG-R43;Saal, Rather Kreuzweg 43, 40472 Düsseldorf
END:VEVENT
BEGIN:VEVENT
DTSTAMP:20260419T220345
DTSTART;TZID=Europe/Berlin:20260804T183000
DTEND;TZID=Europe/Berlin:20260804T193000
UID:2602662317-20260804T183000@DÜSSELDORF ASG-BILDUNGSFORUM
SUMMARY:Sommerferien - Zumba im Rather Familienzentrum® (2602662317) 
LOCATION:ASG-R43;Saal, Rather Kreuzweg 43, 40472 Düsseldorf
END:VEVENT
BEGIN:VEVENT
DTSTAMP:20260419T220345
DTSTART;TZID=Europe/Berlin:20260811T183000
DTEND;TZID=Europe/Berlin:20260811T193000
UID:2602662317-20260811T183000@DÜSSELDORF ASG-BILDUNGSFORUM
SUMMARY:Sommerferien - Zumba im Rather Familienzentrum® (2602662317) 
LOCATION:ASG-R43;Saal, Rather Kreuzweg 43, 40472 Düsseldorf
END:VEVENT
BEGIN:VEVENT
DTSTAMP:20260419T220345
DTSTART;TZID=Europe/Berlin:20260818T183000
DTEND;TZID=Europe/Berlin:20260818T193000
UID:2602662317-20260818T183000@DÜSSELDORF ASG-BILDUNGSFORUM
SUMMARY:Sommerferien - Zumba im Rather Familienzentrum® (2602662317) 
LOCATION:ASG-R43;Saal, Rather Kreuzweg 43, 40472 Düsseldorf
END:VEVENT
BEGIN:VEVENT
DTSTAMP:20260419T220345
DTSTART;TZID=Europe/Berlin:20260825T183000
DTEND;TZID=Europe/Berlin:20260825T193000
UID:2602662317-20260825T183000@DÜSSELDORF ASG-BILDUNGSFORUM
SUMMARY:Sommerferien - Zumba im Rather Familienzentrum® (2602662317) 
LOCATION:ASG-R43;Saal, Rather Kreuzweg 43, 40472 Düsseldorf
END:VEVENT
BEGIN:VEVENT
DTSTAMP:20260419T220345
DTSTART;TZID=Europe/Berlin:20260901T183000
DTEND;TZID=Europe/Berlin:20260901T193000
UID:2602662317-20260901T183000@DÜSSELDORF ASG-BILDUNGSFORUM
SUMMARY:Sommerferien - Zumba im Rather Familienzentrum® (2602662317) 
LOCATION:ASG-R43;Saal, Rather Kreuzweg 43, 40472 Düsseldorf
END:VEVENT
END:VCALENDAR