BEGIN:VCALENDAR
VERSION:2.0
PRODID:https://www.kufer.de/kuferweb / DE
METHOD:PUBLISH
CALSCALE:GREGORIAN
X-WR-TIMEZONE:Europe/Berlin
BEGIN:VTIMEZONE
TZID:Europe/Berlin
X-LIC-LOCATION:Europe/Berlin
BEGIN:DAYLIGHT
TZOFFSETFROM:+0100
TZOFFSETTO:+0200
TZNAME:CEST
DTSTART:19700329T020000
RRULE:FREQ=YEARLY;INTERVAL=1;BYDAY=-1SU;BYMONTH=3
END:DAYLIGHT
BEGIN:STANDARD
TZOFFSETFROM:+0200
TZOFFSETTO:+0100
TZNAME:CET
DTSTART:19701025T030000
RRULE:FREQ=YEARLY;INTERVAL=1;BYDAY=-1SU;BYMONTH=10
END:STANDARD
END:VTIMEZONE
BEGIN:VEVENT
DTSTAMP:20260423T020707
DTSTART;TZID=Europe/Berlin:20260414T173000
DTEND;TZID=Europe/Berlin:20260414T183000
UID:2602662318-20260414T173000@DÜSSELDORF ASG-BILDUNGSFORUM
SUMMARY:Yogilates im Rather Familienzentrum (2602662318) 
LOCATION:ASG-R43;Saal, Rather Kreuzweg 43, 40472 Düsseldorf
END:VEVENT
BEGIN:VEVENT
DTSTAMP:20260423T020707
DTSTART;TZID=Europe/Berlin:20260421T173000
DTEND;TZID=Europe/Berlin:20260421T183000
UID:2602662318-20260421T173000@DÜSSELDORF ASG-BILDUNGSFORUM
SUMMARY:Yogilates im Rather Familienzentrum (2602662318) 
LOCATION:ASG-R43;Saal, Rather Kreuzweg 43, 40472 Düsseldorf
END:VEVENT
BEGIN:VEVENT
DTSTAMP:20260423T020707
DTSTART;TZID=Europe/Berlin:20260428T173000
DTEND;TZID=Europe/Berlin:20260428T183000
UID:2602662318-20260428T173000@DÜSSELDORF ASG-BILDUNGSFORUM
SUMMARY:Yogilates im Rather Familienzentrum (2602662318) 
LOCATION:ASG-R43;Saal, Rather Kreuzweg 43, 40472 Düsseldorf
END:VEVENT
BEGIN:VEVENT
DTSTAMP:20260423T020707
DTSTART;TZID=Europe/Berlin:20260505T173000
DTEND;TZID=Europe/Berlin:20260505T183000
UID:2602662318-20260505T173000@DÜSSELDORF ASG-BILDUNGSFORUM
SUMMARY:Yogilates im Rather Familienzentrum (2602662318) 
LOCATION:ASG-R43;Saal, Rather Kreuzweg 43, 40472 Düsseldorf
END:VEVENT
BEGIN:VEVENT
DTSTAMP:20260423T020707
DTSTART;TZID=Europe/Berlin:20260512T173000
DTEND;TZID=Europe/Berlin:20260512T183000
UID:2602662318-20260512T173000@DÜSSELDORF ASG-BILDUNGSFORUM
SUMMARY:Yogilates im Rather Familienzentrum (2602662318) 
LOCATION:ASG-R43;Saal, Rather Kreuzweg 43, 40472 Düsseldorf
END:VEVENT
BEGIN:VEVENT
DTSTAMP:20260423T020707
DTSTART;TZID=Europe/Berlin:20260519T173000
DTEND;TZID=Europe/Berlin:20260519T183000
UID:2602662318-20260519T173000@DÜSSELDORF ASG-BILDUNGSFORUM
SUMMARY:Yogilates im Rather Familienzentrum (2602662318) 
LOCATION:ASG-R43;Saal, Rather Kreuzweg 43, 40472 Düsseldorf
END:VEVENT
BEGIN:VEVENT
DTSTAMP:20260423T020707
DTSTART;TZID=Europe/Berlin:20260602T173000
DTEND;TZID=Europe/Berlin:20260602T183000
UID:2602662318-20260602T173000@DÜSSELDORF ASG-BILDUNGSFORUM
SUMMARY:Yogilates im Rather Familienzentrum (2602662318) 
LOCATION:ASG-R43;Saal, Rather Kreuzweg 43, 40472 Düsseldorf
END:VEVENT
BEGIN:VEVENT
DTSTAMP:20260423T020707
DTSTART;TZID=Europe/Berlin:20260609T173000
DTEND;TZID=Europe/Berlin:20260609T183000
UID:2602662318-20260609T173000@DÜSSELDORF ASG-BILDUNGSFORUM
SUMMARY:Yogilates im Rather Familienzentrum (2602662318) 
LOCATION:ASG-R43;Saal, Rather Kreuzweg 43, 40472 Düsseldorf
END:VEVENT
BEGIN:VEVENT
DTSTAMP:20260423T020707
DTSTART;TZID=Europe/Berlin:20260616T173000
DTEND;TZID=Europe/Berlin:20260616T183000
UID:2602662318-20260616T173000@DÜSSELDORF ASG-BILDUNGSFORUM
SUMMARY:Yogilates im Rather Familienzentrum (2602662318) 
LOCATION:ASG-R43;Saal, Rather Kreuzweg 43, 40472 Düsseldorf
END:VEVENT
BEGIN:VEVENT
DTSTAMP:20260423T020707
DTSTART;TZID=Europe/Berlin:20260623T173000
DTEND;TZID=Europe/Berlin:20260623T183000
UID:2602662318-20260623T173000@DÜSSELDORF ASG-BILDUNGSFORUM
SUMMARY:Yogilates im Rather Familienzentrum (2602662318) 
LOCATION:ASG-R43;Saal, Rather Kreuzweg 43, 40472 Düsseldorf
END:VEVENT
BEGIN:VEVENT
DTSTAMP:20260423T020707
DTSTART;TZID=Europe/Berlin:20260630T173000
DTEND;TZID=Europe/Berlin:20260630T183000
UID:2602662318-20260630T173000@DÜSSELDORF ASG-BILDUNGSFORUM
SUMMARY:Yogilates im Rather Familienzentrum (2602662318) 
LOCATION:ASG-R43;Saal, Rather Kreuzweg 43, 40472 Düsseldorf
END:VEVENT
BEGIN:VEVENT
DTSTAMP:20260423T020707
DTSTART;TZID=Europe/Berlin:20260707T173000
DTEND;TZID=Europe/Berlin:20260707T183000
UID:2602662318-20260707T173000@DÜSSELDORF ASG-BILDUNGSFORUM
SUMMARY:Yogilates im Rather Familienzentrum (2602662318) 
LOCATION:ASG-R43;Saal, Rather Kreuzweg 43, 40472 Düsseldorf
END:VEVENT
BEGIN:VEVENT
DTSTAMP:20260423T020707
DTSTART;TZID=Europe/Berlin:20260714T173000
DTEND;TZID=Europe/Berlin:20260714T183000
UID:2602662318-20260714T173000@DÜSSELDORF ASG-BILDUNGSFORUM
SUMMARY:Yogilates im Rather Familienzentrum (2602662318) 
LOCATION:ASG-R43;Saal, Rather Kreuzweg 43, 40472 Düsseldorf
END:VEVENT
END:VCALENDAR