BEGIN:VCALENDAR
VERSION:2.0
PRODID:https://www.kufer.de/kuferweb / DE
METHOD:PUBLISH
CALSCALE:GREGORIAN
X-WR-TIMEZONE:Europe/Berlin
BEGIN:VTIMEZONE
TZID:Europe/Berlin
X-LIC-LOCATION:Europe/Berlin
BEGIN:DAYLIGHT
TZOFFSETFROM:+0100
TZOFFSETTO:+0200
TZNAME:CEST
DTSTART:19700329T020000
RRULE:FREQ=YEARLY;INTERVAL=1;BYDAY=-1SU;BYMONTH=3
END:DAYLIGHT
BEGIN:STANDARD
TZOFFSETFROM:+0200
TZOFFSETTO:+0100
TZNAME:CET
DTSTART:19701025T030000
RRULE:FREQ=YEARLY;INTERVAL=1;BYDAY=-1SU;BYMONTH=10
END:STANDARD
END:VTIMEZONE
BEGIN:VEVENT
DTSTAMP:20260419T153434
DTSTART;TZID=Europe/Berlin:20260620T100000
DTEND;TZID=Europe/Berlin:20260620T130000
UID:2602662814-20260620T100000@DÜSSELDORF ASG-BILDUNGSFORUM
SUMMARY:Nähmaschinenführerschein und Schnittmuster 1x1 Grundkurs / Einsteigerveranstaltung (2602662814) 
LOCATION:ASG-G90;3.01, Gerresheimer Straße 90, 40233 Düsseldorf
END:VEVENT
BEGIN:VEVENT
DTSTAMP:20260419T153434
DTSTART;TZID=Europe/Berlin:20260621T100000
DTEND;TZID=Europe/Berlin:20260621T130000
UID:2602662814-20260621T100000@DÜSSELDORF ASG-BILDUNGSFORUM
SUMMARY:Nähmaschinenführerschein und Schnittmuster 1x1 Grundkurs / Einsteigerveranstaltung (2602662814) 
LOCATION:ASG-G90;3.01, Gerresheimer Straße 90, 40233 Düsseldorf
END:VEVENT
END:VCALENDAR