BEGIN:VCALENDAR
VERSION:2.0
PRODID:https://www.kufer.de/kuferweb / DE
METHOD:PUBLISH
CALSCALE:GREGORIAN
X-WR-TIMEZONE:Europe/Berlin
BEGIN:VTIMEZONE
TZID:Europe/Berlin
X-LIC-LOCATION:Europe/Berlin
BEGIN:DAYLIGHT
TZOFFSETFROM:+0100
TZOFFSETTO:+0200
TZNAME:CEST
DTSTART:19700329T020000
RRULE:FREQ=YEARLY;INTERVAL=1;BYDAY=-1SU;BYMONTH=3
END:DAYLIGHT
BEGIN:STANDARD
TZOFFSETFROM:+0200
TZOFFSETTO:+0100
TZNAME:CET
DTSTART:19701025T030000
RRULE:FREQ=YEARLY;INTERVAL=1;BYDAY=-1SU;BYMONTH=10
END:STANDARD
END:VTIMEZONE
BEGIN:VEVENT
DTSTAMP:20260419T174359
DTSTART;TZID=Europe/Berlin:20260907T183000
DTEND;TZID=Europe/Berlin:20260907T193000
UID:2602663040-20260907T183000@DÜSSELDORF ASG-BILDUNGSFORUM
SUMMARY:BarreRobik  -  Eleganz trifft Power! (2602663040) 
LOCATION:ASG-M121;GY1, Münsterstraße 121, 40476 Düsseldorf
END:VEVENT
BEGIN:VEVENT
DTSTAMP:20260419T174359
DTSTART;TZID=Europe/Berlin:20260914T183000
DTEND;TZID=Europe/Berlin:20260914T193000
UID:2602663040-20260914T183000@DÜSSELDORF ASG-BILDUNGSFORUM
SUMMARY:BarreRobik  -  Eleganz trifft Power! (2602663040) 
LOCATION:ASG-M121;GY1, Münsterstraße 121, 40476 Düsseldorf
END:VEVENT
BEGIN:VEVENT
DTSTAMP:20260419T174359
DTSTART;TZID=Europe/Berlin:20260921T183000
DTEND;TZID=Europe/Berlin:20260921T193000
UID:2602663040-20260921T183000@DÜSSELDORF ASG-BILDUNGSFORUM
SUMMARY:BarreRobik  -  Eleganz trifft Power! (2602663040) 
LOCATION:ASG-M121;GY1, Münsterstraße 121, 40476 Düsseldorf
END:VEVENT
BEGIN:VEVENT
DTSTAMP:20260419T174359
DTSTART;TZID=Europe/Berlin:20260928T183000
DTEND;TZID=Europe/Berlin:20260928T193000
UID:2602663040-20260928T183000@DÜSSELDORF ASG-BILDUNGSFORUM
SUMMARY:BarreRobik  -  Eleganz trifft Power! (2602663040) 
LOCATION:ASG-M121;GY1, Münsterstraße 121, 40476 Düsseldorf
END:VEVENT
BEGIN:VEVENT
DTSTAMP:20260419T174359
DTSTART;TZID=Europe/Berlin:20261026T183000
DTEND;TZID=Europe/Berlin:20261026T193000
UID:2602663040-20261026T183000@DÜSSELDORF ASG-BILDUNGSFORUM
SUMMARY:BarreRobik  -  Eleganz trifft Power! (2602663040) 
LOCATION:ASG-M121;GY1, Münsterstraße 121, 40476 Düsseldorf
END:VEVENT
BEGIN:VEVENT
DTSTAMP:20260419T174359
DTSTART;TZID=Europe/Berlin:20261102T183000
DTEND;TZID=Europe/Berlin:20261102T193000
UID:2602663040-20261102T183000@DÜSSELDORF ASG-BILDUNGSFORUM
SUMMARY:BarreRobik  -  Eleganz trifft Power! (2602663040) 
LOCATION:ASG-M121;GY1, Münsterstraße 121, 40476 Düsseldorf
END:VEVENT
BEGIN:VEVENT
DTSTAMP:20260419T174359
DTSTART;TZID=Europe/Berlin:20261109T183000
DTEND;TZID=Europe/Berlin:20261109T193000
UID:2602663040-20261109T183000@DÜSSELDORF ASG-BILDUNGSFORUM
SUMMARY:BarreRobik  -  Eleganz trifft Power! (2602663040) 
LOCATION:ASG-M121;GY1, Münsterstraße 121, 40476 Düsseldorf
END:VEVENT
BEGIN:VEVENT
DTSTAMP:20260419T174359
DTSTART;TZID=Europe/Berlin:20261116T183000
DTEND;TZID=Europe/Berlin:20261116T193000
UID:2602663040-20261116T183000@DÜSSELDORF ASG-BILDUNGSFORUM
SUMMARY:BarreRobik  -  Eleganz trifft Power! (2602663040) 
LOCATION:ASG-M121;GY1, Münsterstraße 121, 40476 Düsseldorf
END:VEVENT
BEGIN:VEVENT
DTSTAMP:20260419T174359
DTSTART;TZID=Europe/Berlin:20261123T183000
DTEND;TZID=Europe/Berlin:20261123T193000
UID:2602663040-20261123T183000@DÜSSELDORF ASG-BILDUNGSFORUM
SUMMARY:BarreRobik  -  Eleganz trifft Power! (2602663040) 
LOCATION:ASG-M121;GY1, Münsterstraße 121, 40476 Düsseldorf
END:VEVENT
BEGIN:VEVENT
DTSTAMP:20260419T174359
DTSTART;TZID=Europe/Berlin:20261130T183000
DTEND;TZID=Europe/Berlin:20261130T193000
UID:2602663040-20261130T183000@DÜSSELDORF ASG-BILDUNGSFORUM
SUMMARY:BarreRobik  -  Eleganz trifft Power! (2602663040) 
LOCATION:ASG-M121;GY1, Münsterstraße 121, 40476 Düsseldorf
END:VEVENT
BEGIN:VEVENT
DTSTAMP:20260419T174359
DTSTART;TZID=Europe/Berlin:20261207T183000
DTEND;TZID=Europe/Berlin:20261207T193000
UID:2602663040-20261207T183000@DÜSSELDORF ASG-BILDUNGSFORUM
SUMMARY:BarreRobik  -  Eleganz trifft Power! (2602663040) 
LOCATION:ASG-M121;GY1, Münsterstraße 121, 40476 Düsseldorf
END:VEVENT
BEGIN:VEVENT
DTSTAMP:20260419T174359
DTSTART;TZID=Europe/Berlin:20261214T183000
DTEND;TZID=Europe/Berlin:20261214T193000
UID:2602663040-20261214T183000@DÜSSELDORF ASG-BILDUNGSFORUM
SUMMARY:BarreRobik  -  Eleganz trifft Power! (2602663040) 
LOCATION:ASG-M121;GY1, Münsterstraße 121, 40476 Düsseldorf
END:VEVENT
END:VCALENDAR