BEGIN:VCALENDAR
VERSION:2.0
PRODID:https://www.kufer.de/kuferweb / DE
METHOD:PUBLISH
CALSCALE:GREGORIAN
X-WR-TIMEZONE:Europe/Berlin
BEGIN:VTIMEZONE
TZID:Europe/Berlin
X-LIC-LOCATION:Europe/Berlin
BEGIN:DAYLIGHT
TZOFFSETFROM:+0100
TZOFFSETTO:+0200
TZNAME:CEST
DTSTART:19700329T020000
RRULE:FREQ=YEARLY;INTERVAL=1;BYDAY=-1SU;BYMONTH=3
END:DAYLIGHT
BEGIN:STANDARD
TZOFFSETFROM:+0200
TZOFFSETTO:+0100
TZNAME:CET
DTSTART:19701025T030000
RRULE:FREQ=YEARLY;INTERVAL=1;BYDAY=-1SU;BYMONTH=10
END:STANDARD
END:VTIMEZONE
BEGIN:VEVENT
DTSTAMP:20260422T220330
DTSTART;TZID=Europe/Berlin:20260908T173000
DTEND;TZID=Europe/Berlin:20260908T183000
UID:2602663318-20260908T173000@DÜSSELDORF ASG-BILDUNGSFORUM
SUMMARY:Yogilates im Rather Familienzentrum (2602663318) 
LOCATION:ASG-R43;Saal, Rather Kreuzweg 43, 40472 Düsseldorf
END:VEVENT
BEGIN:VEVENT
DTSTAMP:20260422T220330
DTSTART;TZID=Europe/Berlin:20260915T173000
DTEND;TZID=Europe/Berlin:20260915T183000
UID:2602663318-20260915T173000@DÜSSELDORF ASG-BILDUNGSFORUM
SUMMARY:Yogilates im Rather Familienzentrum (2602663318) 
LOCATION:ASG-R43;Saal, Rather Kreuzweg 43, 40472 Düsseldorf
END:VEVENT
BEGIN:VEVENT
DTSTAMP:20260422T220330
DTSTART;TZID=Europe/Berlin:20260922T173000
DTEND;TZID=Europe/Berlin:20260922T183000
UID:2602663318-20260922T173000@DÜSSELDORF ASG-BILDUNGSFORUM
SUMMARY:Yogilates im Rather Familienzentrum (2602663318) 
LOCATION:ASG-R43;Saal, Rather Kreuzweg 43, 40472 Düsseldorf
END:VEVENT
BEGIN:VEVENT
DTSTAMP:20260422T220330
DTSTART;TZID=Europe/Berlin:20260929T173000
DTEND;TZID=Europe/Berlin:20260929T183000
UID:2602663318-20260929T173000@DÜSSELDORF ASG-BILDUNGSFORUM
SUMMARY:Yogilates im Rather Familienzentrum (2602663318) 
LOCATION:ASG-R43;Saal, Rather Kreuzweg 43, 40472 Düsseldorf
END:VEVENT
BEGIN:VEVENT
DTSTAMP:20260422T220330
DTSTART;TZID=Europe/Berlin:20261006T173000
DTEND;TZID=Europe/Berlin:20261006T183000
UID:2602663318-20261006T173000@DÜSSELDORF ASG-BILDUNGSFORUM
SUMMARY:Yogilates im Rather Familienzentrum (2602663318) 
LOCATION:ASG-R43;Saal, Rather Kreuzweg 43, 40472 Düsseldorf
END:VEVENT
BEGIN:VEVENT
DTSTAMP:20260422T220330
DTSTART;TZID=Europe/Berlin:20261013T173000
DTEND;TZID=Europe/Berlin:20261013T183000
UID:2602663318-20261013T173000@DÜSSELDORF ASG-BILDUNGSFORUM
SUMMARY:Yogilates im Rather Familienzentrum (2602663318) 
LOCATION:ASG-R43;Saal, Rather Kreuzweg 43, 40472 Düsseldorf
END:VEVENT
BEGIN:VEVENT
DTSTAMP:20260422T220330
DTSTART;TZID=Europe/Berlin:20261103T173000
DTEND;TZID=Europe/Berlin:20261103T183000
UID:2602663318-20261103T173000@DÜSSELDORF ASG-BILDUNGSFORUM
SUMMARY:Yogilates im Rather Familienzentrum (2602663318) 
LOCATION:ASG-R43;Saal, Rather Kreuzweg 43, 40472 Düsseldorf
END:VEVENT
BEGIN:VEVENT
DTSTAMP:20260422T220330
DTSTART;TZID=Europe/Berlin:20261110T173000
DTEND;TZID=Europe/Berlin:20261110T183000
UID:2602663318-20261110T173000@DÜSSELDORF ASG-BILDUNGSFORUM
SUMMARY:Yogilates im Rather Familienzentrum (2602663318) 
LOCATION:ASG-R43;Saal, Rather Kreuzweg 43, 40472 Düsseldorf
END:VEVENT
BEGIN:VEVENT
DTSTAMP:20260422T220330
DTSTART;TZID=Europe/Berlin:20261117T173000
DTEND;TZID=Europe/Berlin:20261117T183000
UID:2602663318-20261117T173000@DÜSSELDORF ASG-BILDUNGSFORUM
SUMMARY:Yogilates im Rather Familienzentrum (2602663318) 
LOCATION:ASG-R43;Saal, Rather Kreuzweg 43, 40472 Düsseldorf
END:VEVENT
BEGIN:VEVENT
DTSTAMP:20260422T220330
DTSTART;TZID=Europe/Berlin:20261124T173000
DTEND;TZID=Europe/Berlin:20261124T183000
UID:2602663318-20261124T173000@DÜSSELDORF ASG-BILDUNGSFORUM
SUMMARY:Yogilates im Rather Familienzentrum (2602663318) 
LOCATION:ASG-R43;Saal, Rather Kreuzweg 43, 40472 Düsseldorf
END:VEVENT
BEGIN:VEVENT
DTSTAMP:20260422T220330
DTSTART;TZID=Europe/Berlin:20261201T173000
DTEND;TZID=Europe/Berlin:20261201T183000
UID:2602663318-20261201T173000@DÜSSELDORF ASG-BILDUNGSFORUM
SUMMARY:Yogilates im Rather Familienzentrum (2602663318) 
LOCATION:ASG-R43;Saal, Rather Kreuzweg 43, 40472 Düsseldorf
END:VEVENT
BEGIN:VEVENT
DTSTAMP:20260422T220330
DTSTART;TZID=Europe/Berlin:20261208T173000
DTEND;TZID=Europe/Berlin:20261208T183000
UID:2602663318-20261208T173000@DÜSSELDORF ASG-BILDUNGSFORUM
SUMMARY:Yogilates im Rather Familienzentrum (2602663318) 
LOCATION:ASG-R43;Saal, Rather Kreuzweg 43, 40472 Düsseldorf
END:VEVENT
BEGIN:VEVENT
DTSTAMP:20260422T220330
DTSTART;TZID=Europe/Berlin:20261215T173000
DTEND;TZID=Europe/Berlin:20261215T183000
UID:2602663318-20261215T173000@DÜSSELDORF ASG-BILDUNGSFORUM
SUMMARY:Yogilates im Rather Familienzentrum (2602663318) 
LOCATION:ASG-R43;Saal, Rather Kreuzweg 43, 40472 Düsseldorf
END:VEVENT
END:VCALENDAR