BEGIN:VCALENDAR
VERSION:2.0
PRODID:https://www.kufer.de/kuferweb / DE
METHOD:PUBLISH
CALSCALE:GREGORIAN
X-WR-TIMEZONE:Europe/Berlin
BEGIN:VTIMEZONE
TZID:Europe/Berlin
X-LIC-LOCATION:Europe/Berlin
BEGIN:DAYLIGHT
TZOFFSETFROM:+0100
TZOFFSETTO:+0200
TZNAME:CEST
DTSTART:19700329T020000
RRULE:FREQ=YEARLY;INTERVAL=1;BYDAY=-1SU;BYMONTH=3
END:DAYLIGHT
BEGIN:STANDARD
TZOFFSETFROM:+0200
TZOFFSETTO:+0100
TZNAME:CET
DTSTART:19701025T030000
RRULE:FREQ=YEARLY;INTERVAL=1;BYDAY=-1SU;BYMONTH=10
END:STANDARD
END:VTIMEZONE
BEGIN:VEVENT
DTSTAMP:20260419T162524
DTSTART;TZID=Europe/Berlin:20260902T183000
DTEND;TZID=Europe/Berlin:20260902T193000
UID:2602663991-20260902T183000@DÜSSELDORF ASG-BILDUNGSFORUM
SUMMARY:Body-Fit im Rather Familienzentrum® (2602663991) 
LOCATION:ASG-R43;Saal, Rather Kreuzweg 43, 40472 Düsseldorf
END:VEVENT
BEGIN:VEVENT
DTSTAMP:20260419T162524
DTSTART;TZID=Europe/Berlin:20260909T183000
DTEND;TZID=Europe/Berlin:20260909T193000
UID:2602663991-20260909T183000@DÜSSELDORF ASG-BILDUNGSFORUM
SUMMARY:Body-Fit im Rather Familienzentrum® (2602663991) 
LOCATION:ASG-R43;Saal, Rather Kreuzweg 43, 40472 Düsseldorf
END:VEVENT
BEGIN:VEVENT
DTSTAMP:20260419T162524
DTSTART;TZID=Europe/Berlin:20260916T183000
DTEND;TZID=Europe/Berlin:20260916T193000
UID:2602663991-20260916T183000@DÜSSELDORF ASG-BILDUNGSFORUM
SUMMARY:Body-Fit im Rather Familienzentrum® (2602663991) 
LOCATION:ASG-R43;Saal, Rather Kreuzweg 43, 40472 Düsseldorf
END:VEVENT
BEGIN:VEVENT
DTSTAMP:20260419T162524
DTSTART;TZID=Europe/Berlin:20260923T183000
DTEND;TZID=Europe/Berlin:20260923T193000
UID:2602663991-20260923T183000@DÜSSELDORF ASG-BILDUNGSFORUM
SUMMARY:Body-Fit im Rather Familienzentrum® (2602663991) 
LOCATION:ASG-R43;Saal, Rather Kreuzweg 43, 40472 Düsseldorf
END:VEVENT
BEGIN:VEVENT
DTSTAMP:20260419T162524
DTSTART;TZID=Europe/Berlin:20260930T183000
DTEND;TZID=Europe/Berlin:20260930T193000
UID:2602663991-20260930T183000@DÜSSELDORF ASG-BILDUNGSFORUM
SUMMARY:Body-Fit im Rather Familienzentrum® (2602663991) 
LOCATION:ASG-R43;Saal, Rather Kreuzweg 43, 40472 Düsseldorf
END:VEVENT
BEGIN:VEVENT
DTSTAMP:20260419T162524
DTSTART;TZID=Europe/Berlin:20261007T183000
DTEND;TZID=Europe/Berlin:20261007T193000
UID:2602663991-20261007T183000@DÜSSELDORF ASG-BILDUNGSFORUM
SUMMARY:Body-Fit im Rather Familienzentrum® (2602663991) 
LOCATION:ASG-R43;Saal, Rather Kreuzweg 43, 40472 Düsseldorf
END:VEVENT
BEGIN:VEVENT
DTSTAMP:20260419T162524
DTSTART;TZID=Europe/Berlin:20261014T183000
DTEND;TZID=Europe/Berlin:20261014T193000
UID:2602663991-20261014T183000@DÜSSELDORF ASG-BILDUNGSFORUM
SUMMARY:Body-Fit im Rather Familienzentrum® (2602663991) 
LOCATION:ASG-R43;Saal, Rather Kreuzweg 43, 40472 Düsseldorf
END:VEVENT
END:VCALENDAR