BEGIN:VCALENDAR
VERSION:2.0
PRODID:https://www.kufer.de/kuferweb / DE
METHOD:PUBLISH
CALSCALE:GREGORIAN
X-WR-TIMEZONE:Europe/Berlin
BEGIN:VTIMEZONE
TZID:Europe/Berlin
X-LIC-LOCATION:Europe/Berlin
BEGIN:DAYLIGHT
TZOFFSETFROM:+0100
TZOFFSETTO:+0200
TZNAME:CEST
DTSTART:19700329T020000
RRULE:FREQ=YEARLY;INTERVAL=1;BYDAY=-1SU;BYMONTH=3
END:DAYLIGHT
BEGIN:STANDARD
TZOFFSETFROM:+0200
TZOFFSETTO:+0100
TZNAME:CET
DTSTART:19701025T030000
RRULE:FREQ=YEARLY;INTERVAL=1;BYDAY=-1SU;BYMONTH=10
END:STANDARD
END:VTIMEZONE
BEGIN:VEVENT
DTSTAMP:20260423T042054
DTSTART;TZID=Europe/Berlin:20270215T090000
DTEND;TZID=Europe/Berlin:20270215T130000
UID:2602813887-20270215T090000@DÜSSELDORF ASG-BILDUNGSFORUM
SUMMARY:Deutsch als Fremdsprache Orientierungskurs (2602813887) 
LOCATION:ASG-W4, Werdener Straße 4, 40227 Düsseldorf
END:VEVENT
BEGIN:VEVENT
DTSTAMP:20260423T042054
DTSTART;TZID=Europe/Berlin:20270216T090000
DTEND;TZID=Europe/Berlin:20270216T130000
UID:2602813887-20270216T090000@DÜSSELDORF ASG-BILDUNGSFORUM
SUMMARY:Deutsch als Fremdsprache Orientierungskurs (2602813887) 
LOCATION:ASG-W4, Werdener Straße 4, 40227 Düsseldorf
END:VEVENT
BEGIN:VEVENT
DTSTAMP:20260423T042054
DTSTART;TZID=Europe/Berlin:20270217T090000
DTEND;TZID=Europe/Berlin:20270217T130000
UID:2602813887-20270217T090000@DÜSSELDORF ASG-BILDUNGSFORUM
SUMMARY:Deutsch als Fremdsprache Orientierungskurs (2602813887) 
LOCATION:ASG-W4, Werdener Straße 4, 40227 Düsseldorf
END:VEVENT
BEGIN:VEVENT
DTSTAMP:20260423T042054
DTSTART;TZID=Europe/Berlin:20270218T090000
DTEND;TZID=Europe/Berlin:20270218T130000
UID:2602813887-20270218T090000@DÜSSELDORF ASG-BILDUNGSFORUM
SUMMARY:Deutsch als Fremdsprache Orientierungskurs (2602813887) 
LOCATION:ASG-W4, Werdener Straße 4, 40227 Düsseldorf
END:VEVENT
BEGIN:VEVENT
DTSTAMP:20260423T042054
DTSTART;TZID=Europe/Berlin:20270222T090000
DTEND;TZID=Europe/Berlin:20270222T130000
UID:2602813887-20270222T090000@DÜSSELDORF ASG-BILDUNGSFORUM
SUMMARY:Deutsch als Fremdsprache Orientierungskurs (2602813887) 
LOCATION:ASG-W4, Werdener Straße 4, 40227 Düsseldorf
END:VEVENT
BEGIN:VEVENT
DTSTAMP:20260423T042054
DTSTART;TZID=Europe/Berlin:20270223T090000
DTEND;TZID=Europe/Berlin:20270223T130000
UID:2602813887-20270223T090000@DÜSSELDORF ASG-BILDUNGSFORUM
SUMMARY:Deutsch als Fremdsprache Orientierungskurs (2602813887) 
LOCATION:ASG-W4, Werdener Straße 4, 40227 Düsseldorf
END:VEVENT
BEGIN:VEVENT
DTSTAMP:20260423T042054
DTSTART;TZID=Europe/Berlin:20270224T090000
DTEND;TZID=Europe/Berlin:20270224T130000
UID:2602813887-20270224T090000@DÜSSELDORF ASG-BILDUNGSFORUM
SUMMARY:Deutsch als Fremdsprache Orientierungskurs (2602813887) 
LOCATION:ASG-W4, Werdener Straße 4, 40227 Düsseldorf
END:VEVENT
BEGIN:VEVENT
DTSTAMP:20260423T042054
DTSTART;TZID=Europe/Berlin:20270225T090000
DTEND;TZID=Europe/Berlin:20270225T130000
UID:2602813887-20270225T090000@DÜSSELDORF ASG-BILDUNGSFORUM
SUMMARY:Deutsch als Fremdsprache Orientierungskurs (2602813887) 
LOCATION:ASG-W4, Werdener Straße 4, 40227 Düsseldorf
END:VEVENT
BEGIN:VEVENT
DTSTAMP:20260423T042054
DTSTART;TZID=Europe/Berlin:20270301T090000
DTEND;TZID=Europe/Berlin:20270301T130000
UID:2602813887-20270301T090000@DÜSSELDORF ASG-BILDUNGSFORUM
SUMMARY:Deutsch als Fremdsprache Orientierungskurs (2602813887) 
LOCATION:ASG-W4, Werdener Straße 4, 40227 Düsseldorf
END:VEVENT
BEGIN:VEVENT
DTSTAMP:20260423T042054
DTSTART;TZID=Europe/Berlin:20270302T090000
DTEND;TZID=Europe/Berlin:20270302T130000
UID:2602813887-20270302T090000@DÜSSELDORF ASG-BILDUNGSFORUM
SUMMARY:Deutsch als Fremdsprache Orientierungskurs (2602813887) 
LOCATION:ASG-W4, Werdener Straße 4, 40227 Düsseldorf
END:VEVENT
BEGIN:VEVENT
DTSTAMP:20260423T042054
DTSTART;TZID=Europe/Berlin:20270303T090000
DTEND;TZID=Europe/Berlin:20270303T130000
UID:2602813887-20270303T090000@DÜSSELDORF ASG-BILDUNGSFORUM
SUMMARY:Deutsch als Fremdsprache Orientierungskurs (2602813887) 
LOCATION:ASG-W4, Werdener Straße 4, 40227 Düsseldorf
END:VEVENT
BEGIN:VEVENT
DTSTAMP:20260423T042054
DTSTART;TZID=Europe/Berlin:20270304T090000
DTEND;TZID=Europe/Berlin:20270304T130000
UID:2602813887-20270304T090000@DÜSSELDORF ASG-BILDUNGSFORUM
SUMMARY:Deutsch als Fremdsprache Orientierungskurs (2602813887) 
LOCATION:ASG-W4, Werdener Straße 4, 40227 Düsseldorf
END:VEVENT
BEGIN:VEVENT
DTSTAMP:20260423T042054
DTSTART;TZID=Europe/Berlin:20270308T090000
DTEND;TZID=Europe/Berlin:20270308T130000
UID:2602813887-20270308T090000@DÜSSELDORF ASG-BILDUNGSFORUM
SUMMARY:Deutsch als Fremdsprache Orientierungskurs (2602813887) 
LOCATION:ASG-W4, Werdener Straße 4, 40227 Düsseldorf
END:VEVENT
BEGIN:VEVENT
DTSTAMP:20260423T042054
DTSTART;TZID=Europe/Berlin:20270309T090000
DTEND;TZID=Europe/Berlin:20270309T130000
UID:2602813887-20270309T090000@DÜSSELDORF ASG-BILDUNGSFORUM
SUMMARY:Deutsch als Fremdsprache Orientierungskurs (2602813887) 
LOCATION:ASG-W4, Werdener Straße 4, 40227 Düsseldorf
END:VEVENT
BEGIN:VEVENT
DTSTAMP:20260423T042054
DTSTART;TZID=Europe/Berlin:20270310T090000
DTEND;TZID=Europe/Berlin:20270310T130000
UID:2602813887-20270310T090000@DÜSSELDORF ASG-BILDUNGSFORUM
SUMMARY:Deutsch als Fremdsprache Orientierungskurs (2602813887) 
LOCATION:ASG-W4, Werdener Straße 4, 40227 Düsseldorf
END:VEVENT
BEGIN:VEVENT
DTSTAMP:20260423T042054
DTSTART;TZID=Europe/Berlin:20270311T090000
DTEND;TZID=Europe/Berlin:20270311T130000
UID:2602813887-20270311T090000@DÜSSELDORF ASG-BILDUNGSFORUM
SUMMARY:Deutsch als Fremdsprache Orientierungskurs (2602813887) 
LOCATION:ASG-W4, Werdener Straße 4, 40227 Düsseldorf
END:VEVENT
BEGIN:VEVENT
DTSTAMP:20260423T042054
DTSTART;TZID=Europe/Berlin:20270315T090000
DTEND;TZID=Europe/Berlin:20270315T130000
UID:2602813887-20270315T090000@DÜSSELDORF ASG-BILDUNGSFORUM
SUMMARY:Deutsch als Fremdsprache Orientierungskurs (2602813887) 
LOCATION:ASG-W4, Werdener Straße 4, 40227 Düsseldorf
END:VEVENT
BEGIN:VEVENT
DTSTAMP:20260423T042054
DTSTART;TZID=Europe/Berlin:20270316T090000
DTEND;TZID=Europe/Berlin:20270316T130000
UID:2602813887-20270316T090000@DÜSSELDORF ASG-BILDUNGSFORUM
SUMMARY:Deutsch als Fremdsprache Orientierungskurs (2602813887) 
LOCATION:ASG-W4, Werdener Straße 4, 40227 Düsseldorf
END:VEVENT
BEGIN:VEVENT
DTSTAMP:20260423T042054
DTSTART;TZID=Europe/Berlin:20270317T090000
DTEND;TZID=Europe/Berlin:20270317T130000
UID:2602813887-20270317T090000@DÜSSELDORF ASG-BILDUNGSFORUM
SUMMARY:Deutsch als Fremdsprache Orientierungskurs (2602813887) 
LOCATION:ASG-W4, Werdener Straße 4, 40227 Düsseldorf
END:VEVENT
BEGIN:VEVENT
DTSTAMP:20260423T042054
DTSTART;TZID=Europe/Berlin:20270318T090000
DTEND;TZID=Europe/Berlin:20270318T130000
UID:2602813887-20270318T090000@DÜSSELDORF ASG-BILDUNGSFORUM
SUMMARY:Deutsch als Fremdsprache Orientierungskurs (2602813887) 
LOCATION:ASG-W4, Werdener Straße 4, 40227 Düsseldorf
END:VEVENT
END:VCALENDAR