BEGIN:VCALENDAR
VERSION:2.0
PRODID:https://www.kufer.de/kuferweb / DE
METHOD:PUBLISH
CALSCALE:GREGORIAN
X-WR-TIMEZONE:Europe/Berlin
BEGIN:VTIMEZONE
TZID:Europe/Berlin
X-LIC-LOCATION:Europe/Berlin
BEGIN:DAYLIGHT
TZOFFSETFROM:+0100
TZOFFSETTO:+0200
TZNAME:CEST
DTSTART:19700329T020000
RRULE:FREQ=YEARLY;INTERVAL=1;BYDAY=-1SU;BYMONTH=3
END:DAYLIGHT
BEGIN:STANDARD
TZOFFSETFROM:+0200
TZOFFSETTO:+0100
TZNAME:CET
DTSTART:19701025T030000
RRULE:FREQ=YEARLY;INTERVAL=1;BYDAY=-1SU;BYMONTH=10
END:STANDARD
END:VTIMEZONE
BEGIN:VEVENT
DTSTAMP:20260420T044656
DTSTART;TZID=Europe/Berlin:20260116T163000
DTEND;TZID=Europe/Berlin:20260116T180000
UID:2602920002-20260116T163000@DÜSSELDORF ASG-BILDUNGSFORUM
SUMMARY:Portugiesisch als Herkunftssprache für Kinder zwischen 10 und 15 Jahren Alphabetisierung, Lese- und Schreibkurs des Programms Sempre-Viva a Língua Portuguesa (2602920002) 
LOCATION:ASG-G90;4.01, Gerresheimer Straße 90, 40233 Düsseldorf
END:VEVENT
BEGIN:VEVENT
DTSTAMP:20260420T044656
DTSTART;TZID=Europe/Berlin:20260123T163000
DTEND;TZID=Europe/Berlin:20260123T180000
UID:2602920002-20260123T163000@DÜSSELDORF ASG-BILDUNGSFORUM
SUMMARY:Portugiesisch als Herkunftssprache für Kinder zwischen 10 und 15 Jahren Alphabetisierung, Lese- und Schreibkurs des Programms Sempre-Viva a Língua Portuguesa (2602920002) 
LOCATION:ASG-G90;4.01, Gerresheimer Straße 90, 40233 Düsseldorf
END:VEVENT
BEGIN:VEVENT
DTSTAMP:20260420T044656
DTSTART;TZID=Europe/Berlin:20260206T163000
DTEND;TZID=Europe/Berlin:20260206T180000
UID:2602920002-20260206T163000@DÜSSELDORF ASG-BILDUNGSFORUM
SUMMARY:Portugiesisch als Herkunftssprache für Kinder zwischen 10 und 15 Jahren Alphabetisierung, Lese- und Schreibkurs des Programms Sempre-Viva a Língua Portuguesa (2602920002) 
LOCATION:ASG-G90;4.01, Gerresheimer Straße 90, 40233 Düsseldorf
END:VEVENT
BEGIN:VEVENT
DTSTAMP:20260420T044656
DTSTART;TZID=Europe/Berlin:20260220T163000
DTEND;TZID=Europe/Berlin:20260220T180000
UID:2602920002-20260220T163000@DÜSSELDORF ASG-BILDUNGSFORUM
SUMMARY:Portugiesisch als Herkunftssprache für Kinder zwischen 10 und 15 Jahren Alphabetisierung, Lese- und Schreibkurs des Programms Sempre-Viva a Língua Portuguesa (2602920002) 
LOCATION:ASG-G90;4.01, Gerresheimer Straße 90, 40233 Düsseldorf
END:VEVENT
BEGIN:VEVENT
DTSTAMP:20260420T044656
DTSTART;TZID=Europe/Berlin:20260227T163000
DTEND;TZID=Europe/Berlin:20260227T180000
UID:2602920002-20260227T163000@DÜSSELDORF ASG-BILDUNGSFORUM
SUMMARY:Portugiesisch als Herkunftssprache für Kinder zwischen 10 und 15 Jahren Alphabetisierung, Lese- und Schreibkurs des Programms Sempre-Viva a Língua Portuguesa (2602920002) 
LOCATION:ASG-G90;4.01, Gerresheimer Straße 90, 40233 Düsseldorf
END:VEVENT
BEGIN:VEVENT
DTSTAMP:20260420T044656
DTSTART;TZID=Europe/Berlin:20260306T163000
DTEND;TZID=Europe/Berlin:20260306T180000
UID:2602920002-20260306T163000@DÜSSELDORF ASG-BILDUNGSFORUM
SUMMARY:Portugiesisch als Herkunftssprache für Kinder zwischen 10 und 15 Jahren Alphabetisierung, Lese- und Schreibkurs des Programms Sempre-Viva a Língua Portuguesa (2602920002) 
LOCATION:ASG-G90;4.01, Gerresheimer Straße 90, 40233 Düsseldorf
END:VEVENT
BEGIN:VEVENT
DTSTAMP:20260420T044656
DTSTART;TZID=Europe/Berlin:20260313T163000
DTEND;TZID=Europe/Berlin:20260313T180000
UID:2602920002-20260313T163000@DÜSSELDORF ASG-BILDUNGSFORUM
SUMMARY:Portugiesisch als Herkunftssprache für Kinder zwischen 10 und 15 Jahren Alphabetisierung, Lese- und Schreibkurs des Programms Sempre-Viva a Língua Portuguesa (2602920002) 
LOCATION:ASG-G90;4.01, Gerresheimer Straße 90, 40233 Düsseldorf
END:VEVENT
BEGIN:VEVENT
DTSTAMP:20260420T044656
DTSTART;TZID=Europe/Berlin:20260327T163000
DTEND;TZID=Europe/Berlin:20260327T180000
UID:2602920002-20260327T163000@DÜSSELDORF ASG-BILDUNGSFORUM
DESCRIPTION:Ersatz für Ausfall am 20.03.2026
SUMMARY:Portugiesisch als Herkunftssprache für Kinder zwischen 10 und 15 Jahren Alphabetisierung, Lese- und Schreibkurs des Programms Sempre-Viva a Língua Portuguesa (2602920002) 
LOCATION:ASG-G90;4.01, Gerresheimer Straße 90, 40233 Düsseldorf
END:VEVENT
BEGIN:VEVENT
DTSTAMP:20260420T044656
DTSTART;TZID=Europe/Berlin:20260417T163000
DTEND;TZID=Europe/Berlin:20260417T180000
UID:2602920002-20260417T163000@DÜSSELDORF ASG-BILDUNGSFORUM
SUMMARY:Portugiesisch als Herkunftssprache für Kinder zwischen 10 und 15 Jahren Alphabetisierung, Lese- und Schreibkurs des Programms Sempre-Viva a Língua Portuguesa (2602920002) 
LOCATION:ASG-G90;4.01, Gerresheimer Straße 90, 40233 Düsseldorf
END:VEVENT
BEGIN:VEVENT
DTSTAMP:20260420T044656
DTSTART;TZID=Europe/Berlin:20260424T163000
DTEND;TZID=Europe/Berlin:20260424T180000
UID:2602920002-20260424T163000@DÜSSELDORF ASG-BILDUNGSFORUM
SUMMARY:Portugiesisch als Herkunftssprache für Kinder zwischen 10 und 15 Jahren Alphabetisierung, Lese- und Schreibkurs des Programms Sempre-Viva a Língua Portuguesa (2602920002) 
LOCATION:ASG-G90;4.01, Gerresheimer Straße 90, 40233 Düsseldorf
END:VEVENT
BEGIN:VEVENT
DTSTAMP:20260420T044656
DTSTART;TZID=Europe/Berlin:20260508T163000
DTEND;TZID=Europe/Berlin:20260508T180000
UID:2602920002-20260508T163000@DÜSSELDORF ASG-BILDUNGSFORUM
SUMMARY:Portugiesisch als Herkunftssprache für Kinder zwischen 10 und 15 Jahren Alphabetisierung, Lese- und Schreibkurs des Programms Sempre-Viva a Língua Portuguesa (2602920002) 
LOCATION:ASG-G90;4.01, Gerresheimer Straße 90, 40233 Düsseldorf
END:VEVENT
BEGIN:VEVENT
DTSTAMP:20260420T044656
DTSTART;TZID=Europe/Berlin:20260522T163000
DTEND;TZID=Europe/Berlin:20260522T180000
UID:2602920002-20260522T163000@DÜSSELDORF ASG-BILDUNGSFORUM
SUMMARY:Portugiesisch als Herkunftssprache für Kinder zwischen 10 und 15 Jahren Alphabetisierung, Lese- und Schreibkurs des Programms Sempre-Viva a Língua Portuguesa (2602920002) 
LOCATION:ASG-G90;4.01, Gerresheimer Straße 90, 40233 Düsseldorf
END:VEVENT
BEGIN:VEVENT
DTSTAMP:20260420T044656
DTSTART;TZID=Europe/Berlin:20260529T163000
DTEND;TZID=Europe/Berlin:20260529T180000
UID:2602920002-20260529T163000@DÜSSELDORF ASG-BILDUNGSFORUM
SUMMARY:Portugiesisch als Herkunftssprache für Kinder zwischen 10 und 15 Jahren Alphabetisierung, Lese- und Schreibkurs des Programms Sempre-Viva a Língua Portuguesa (2602920002) 
LOCATION:ASG-G90;4.01, Gerresheimer Straße 90, 40233 Düsseldorf
END:VEVENT
BEGIN:VEVENT
DTSTAMP:20260420T044656
DTSTART;TZID=Europe/Berlin:20260612T163000
DTEND;TZID=Europe/Berlin:20260612T180000
UID:2602920002-20260612T163000@DÜSSELDORF ASG-BILDUNGSFORUM
SUMMARY:Portugiesisch als Herkunftssprache für Kinder zwischen 10 und 15 Jahren Alphabetisierung, Lese- und Schreibkurs des Programms Sempre-Viva a Língua Portuguesa (2602920002) 
LOCATION:ASG-G90;4.01, Gerresheimer Straße 90, 40233 Düsseldorf
END:VEVENT
BEGIN:VEVENT
DTSTAMP:20260420T044656
DTSTART;TZID=Europe/Berlin:20260619T163000
DTEND;TZID=Europe/Berlin:20260619T180000
UID:2602920002-20260619T163000@DÜSSELDORF ASG-BILDUNGSFORUM
SUMMARY:Portugiesisch als Herkunftssprache für Kinder zwischen 10 und 15 Jahren Alphabetisierung, Lese- und Schreibkurs des Programms Sempre-Viva a Língua Portuguesa (2602920002) 
LOCATION:ASG-G90;4.01, Gerresheimer Straße 90, 40233 Düsseldorf
END:VEVENT
BEGIN:VEVENT
DTSTAMP:20260420T044656
DTSTART;TZID=Europe/Berlin:20260626T163000
DTEND;TZID=Europe/Berlin:20260626T180000
UID:2602920002-20260626T163000@DÜSSELDORF ASG-BILDUNGSFORUM
SUMMARY:Portugiesisch als Herkunftssprache für Kinder zwischen 10 und 15 Jahren Alphabetisierung, Lese- und Schreibkurs des Programms Sempre-Viva a Língua Portuguesa (2602920002) 
LOCATION:ASG-G90;4.01, Gerresheimer Straße 90, 40233 Düsseldorf
END:VEVENT
BEGIN:VEVENT
DTSTAMP:20260420T044656
DTSTART;TZID=Europe/Berlin:20260703T163000
DTEND;TZID=Europe/Berlin:20260703T180000
UID:2602920002-20260703T163000@DÜSSELDORF ASG-BILDUNGSFORUM
SUMMARY:Portugiesisch als Herkunftssprache für Kinder zwischen 10 und 15 Jahren Alphabetisierung, Lese- und Schreibkurs des Programms Sempre-Viva a Língua Portuguesa (2602920002) 
LOCATION:ASG-G90;4.01, Gerresheimer Straße 90, 40233 Düsseldorf
END:VEVENT
BEGIN:VEVENT
DTSTAMP:20260420T044656
DTSTART;TZID=Europe/Berlin:20260710T163000
DTEND;TZID=Europe/Berlin:20260710T180000
UID:2602920002-20260710T163000@DÜSSELDORF ASG-BILDUNGSFORUM
SUMMARY:Portugiesisch als Herkunftssprache für Kinder zwischen 10 und 15 Jahren Alphabetisierung, Lese- und Schreibkurs des Programms Sempre-Viva a Língua Portuguesa (2602920002) 
LOCATION:ASG-G90;4.01, Gerresheimer Straße 90, 40233 Düsseldorf
END:VEVENT
BEGIN:VEVENT
DTSTAMP:20260420T044656
DTSTART;TZID=Europe/Berlin:20260717T163000
DTEND;TZID=Europe/Berlin:20260717T180000
UID:2602920002-20260717T163000@DÜSSELDORF ASG-BILDUNGSFORUM
DESCRIPTION:NHT für Ausfall 30.01.
SUMMARY:Portugiesisch als Herkunftssprache für Kinder zwischen 10 und 15 Jahren Alphabetisierung, Lese- und Schreibkurs des Programms Sempre-Viva a Língua Portuguesa (2602920002) 
LOCATION:ASG-G90;4.01, Gerresheimer Straße 90, 40233 Düsseldorf
END:VEVENT
END:VCALENDAR