BEGIN:VCALENDAR
VERSION:2.0
PRODID:https://www.kufer.de/kuferweb / DE
METHOD:PUBLISH
CALSCALE:GREGORIAN
X-WR-TIMEZONE:Europe/Berlin
BEGIN:VTIMEZONE
TZID:Europe/Berlin
X-LIC-LOCATION:Europe/Berlin
BEGIN:DAYLIGHT
TZOFFSETFROM:+0100
TZOFFSETTO:+0200
TZNAME:CEST
DTSTART:19700329T020000
RRULE:FREQ=YEARLY;INTERVAL=1;BYDAY=-1SU;BYMONTH=3
END:DAYLIGHT
BEGIN:STANDARD
TZOFFSETFROM:+0200
TZOFFSETTO:+0100
TZNAME:CET
DTSTART:19701025T030000
RRULE:FREQ=YEARLY;INTERVAL=1;BYDAY=-1SU;BYMONTH=10
END:STANDARD
END:VTIMEZONE
BEGIN:VEVENT
DTSTAMP:20260423T033828
DTSTART;TZID=Europe/Berlin:20260417T093000
DTEND;TZID=Europe/Berlin:20260417T110000
UID:2602931018-20260417T093000@DÜSSELDORF ASG-BILDUNGSFORUM
SUMMARY:Förderkurse für Kinder nach dem Konzept von Brain Gym®  Wir reisen in den Dschungel Eine ganzheitliche Erlebnisreise mit Bewegung, Entspannung, Musik & Kreativität. Taucht mit uns ein in die geheimnisvolle Welt des Dschungels Für Kinder von 3 bis 4 Jahre (2602931018) 
LOCATION:Familienzentrum (städt.) Rath, Dülmener Weg, Dülmener Weg 25 a , 40470 Düsseldorf 
END:VEVENT
BEGIN:VEVENT
DTSTAMP:20260423T033828
DTSTART;TZID=Europe/Berlin:20260424T093000
DTEND;TZID=Europe/Berlin:20260424T110000
UID:2602931018-20260424T093000@DÜSSELDORF ASG-BILDUNGSFORUM
SUMMARY:Förderkurse für Kinder nach dem Konzept von Brain Gym®  Wir reisen in den Dschungel Eine ganzheitliche Erlebnisreise mit Bewegung, Entspannung, Musik & Kreativität. Taucht mit uns ein in die geheimnisvolle Welt des Dschungels Für Kinder von 3 bis 4 Jahre (2602931018) 
LOCATION:Familienzentrum (städt.) Rath, Dülmener Weg, Dülmener Weg 25 a , 40470 Düsseldorf 
END:VEVENT
BEGIN:VEVENT
DTSTAMP:20260423T033828
DTSTART;TZID=Europe/Berlin:20260505T093000
DTEND;TZID=Europe/Berlin:20260505T110000
UID:2602931018-20260505T093000@DÜSSELDORF ASG-BILDUNGSFORUM
SUMMARY:Förderkurse für Kinder nach dem Konzept von Brain Gym®  Wir reisen in den Dschungel Eine ganzheitliche Erlebnisreise mit Bewegung, Entspannung, Musik & Kreativität. Taucht mit uns ein in die geheimnisvolle Welt des Dschungels Für Kinder von 3 bis 4 Jahre (2602931018) 
LOCATION:Familienzentrum (städt.) Rath, Dülmener Weg, Dülmener Weg 25 a , 40470 Düsseldorf 
END:VEVENT
END:VCALENDAR