BEGIN:VCALENDAR
VERSION:2.0
PRODID:https://www.kufer.de/kuferweb / DE
METHOD:PUBLISH
CALSCALE:GREGORIAN
X-WR-TIMEZONE:Europe/Berlin
BEGIN:VTIMEZONE
TZID:Europe/Berlin
X-LIC-LOCATION:Europe/Berlin
BEGIN:DAYLIGHT
TZOFFSETFROM:+0100
TZOFFSETTO:+0200
TZNAME:CEST
DTSTART:19700329T020000
RRULE:FREQ=YEARLY;INTERVAL=1;BYDAY=-1SU;BYMONTH=3
END:DAYLIGHT
BEGIN:STANDARD
TZOFFSETFROM:+0200
TZOFFSETTO:+0100
TZNAME:CET
DTSTART:19701025T030000
RRULE:FREQ=YEARLY;INTERVAL=1;BYDAY=-1SU;BYMONTH=10
END:STANDARD
END:VTIMEZONE
BEGIN:VEVENT
DTSTAMP:20260419T162904
DTSTART;TZID=Europe/Berlin:20260416T150000
DTEND;TZID=Europe/Berlin:20260416T154500
UID:2602932006-20260416T150000@DÜSSELDORF ASG-BILDUNGSFORUM
SUMMARY:Kinderyoga Für Kinder von 4 bis 6 Jahren (2602932006) 
LOCATION:Familienzentrum St. Maria Rosenkranz, Roderbirkener Straße 19, 40591 Düsseldorf
END:VEVENT
BEGIN:VEVENT
DTSTAMP:20260419T162904
DTSTART;TZID=Europe/Berlin:20260521T150000
DTEND;TZID=Europe/Berlin:20260521T154500
UID:2602932006-20260521T150000@DÜSSELDORF ASG-BILDUNGSFORUM
SUMMARY:Kinderyoga Für Kinder von 4 bis 6 Jahren (2602932006) 
LOCATION:Familienzentrum St. Maria Rosenkranz, Roderbirkener Straße 19, 40591 Düsseldorf
END:VEVENT
BEGIN:VEVENT
DTSTAMP:20260419T162904
DTSTART;TZID=Europe/Berlin:20260528T150000
DTEND;TZID=Europe/Berlin:20260528T154500
UID:2602932006-20260528T150000@DÜSSELDORF ASG-BILDUNGSFORUM
SUMMARY:Kinderyoga Für Kinder von 4 bis 6 Jahren (2602932006) 
LOCATION:Familienzentrum St. Maria Rosenkranz, Roderbirkener Straße 19, 40591 Düsseldorf
END:VEVENT
BEGIN:VEVENT
DTSTAMP:20260419T162904
DTSTART;TZID=Europe/Berlin:20260611T150000
DTEND;TZID=Europe/Berlin:20260611T154500
UID:2602932006-20260611T150000@DÜSSELDORF ASG-BILDUNGSFORUM
SUMMARY:Kinderyoga Für Kinder von 4 bis 6 Jahren (2602932006) 
LOCATION:Familienzentrum St. Maria Rosenkranz, Roderbirkener Straße 19, 40591 Düsseldorf
END:VEVENT
BEGIN:VEVENT
DTSTAMP:20260419T162904
DTSTART;TZID=Europe/Berlin:20260618T150000
DTEND;TZID=Europe/Berlin:20260618T154500
UID:2602932006-20260618T150000@DÜSSELDORF ASG-BILDUNGSFORUM
SUMMARY:Kinderyoga Für Kinder von 4 bis 6 Jahren (2602932006) 
LOCATION:Familienzentrum St. Maria Rosenkranz, Roderbirkener Straße 19, 40591 Düsseldorf
END:VEVENT
BEGIN:VEVENT
DTSTAMP:20260419T162904
DTSTART;TZID=Europe/Berlin:20260625T150000
DTEND;TZID=Europe/Berlin:20260625T154500
UID:2602932006-20260625T150000@DÜSSELDORF ASG-BILDUNGSFORUM
SUMMARY:Kinderyoga Für Kinder von 4 bis 6 Jahren (2602932006) 
LOCATION:Familienzentrum St. Maria Rosenkranz, Roderbirkener Straße 19, 40591 Düsseldorf
END:VEVENT
BEGIN:VEVENT
DTSTAMP:20260419T162904
DTSTART;TZID=Europe/Berlin:20260702T150000
DTEND;TZID=Europe/Berlin:20260702T154500
UID:2602932006-20260702T150000@DÜSSELDORF ASG-BILDUNGSFORUM
SUMMARY:Kinderyoga Für Kinder von 4 bis 6 Jahren (2602932006) 
LOCATION:Familienzentrum St. Maria Rosenkranz, Roderbirkener Straße 19, 40591 Düsseldorf
END:VEVENT
BEGIN:VEVENT
DTSTAMP:20260419T162904
DTSTART;TZID=Europe/Berlin:20260709T150000
DTEND;TZID=Europe/Berlin:20260709T154500
UID:2602932006-20260709T150000@DÜSSELDORF ASG-BILDUNGSFORUM
SUMMARY:Kinderyoga Für Kinder von 4 bis 6 Jahren (2602932006) 
LOCATION:Familienzentrum St. Maria Rosenkranz, Roderbirkener Straße 19, 40591 Düsseldorf
END:VEVENT
BEGIN:VEVENT
DTSTAMP:20260419T162904
DTSTART;TZID=Europe/Berlin:20260716T150000
DTEND;TZID=Europe/Berlin:20260716T154500
UID:2602932006-20260716T150000@DÜSSELDORF ASG-BILDUNGSFORUM
DESCRIPTION:NHT vom 23.4., 2.2. tei
SUMMARY:Kinderyoga Für Kinder von 4 bis 6 Jahren (2602932006) 
LOCATION:Familienzentrum St. Maria Rosenkranz, Roderbirkener Straße 19, 40591 Düsseldorf
END:VEVENT
END:VCALENDAR