BEGIN:VCALENDAR
VERSION:2.0
PRODID:https://www.kufer.de/kuferweb / DE
METHOD:PUBLISH
CALSCALE:GREGORIAN
X-WR-TIMEZONE:Europe/Berlin
BEGIN:VTIMEZONE
TZID:Europe/Berlin
X-LIC-LOCATION:Europe/Berlin
BEGIN:DAYLIGHT
TZOFFSETFROM:+0100
TZOFFSETTO:+0200
TZNAME:CEST
DTSTART:19700329T020000
RRULE:FREQ=YEARLY;INTERVAL=1;BYDAY=-1SU;BYMONTH=3
END:DAYLIGHT
BEGIN:STANDARD
TZOFFSETFROM:+0200
TZOFFSETTO:+0100
TZNAME:CET
DTSTART:19701025T030000
RRULE:FREQ=YEARLY;INTERVAL=1;BYDAY=-1SU;BYMONTH=10
END:STANDARD
END:VTIMEZONE
BEGIN:VEVENT
DTSTAMP:20260422T115231
DTSTART;TZID=Europe/Berlin:20260911T180000
DTEND;TZID=Europe/Berlin:20260911T190000
UID:2602953001-20260911T180000@DÜSSELDORF ASG-BILDUNGSFORUM
SUMMARY:CANTIENICA - Exklusiver Kurs: Erwecke die beste Version deines Körpers. (2602953001) 
LOCATION:ASG-G90-E0.01, Gerresheimer Straße 90, 40233 Düsseldorf
END:VEVENT
BEGIN:VEVENT
DTSTAMP:20260422T115231
DTSTART;TZID=Europe/Berlin:20260918T180000
DTEND;TZID=Europe/Berlin:20260918T190000
UID:2602953001-20260918T180000@DÜSSELDORF ASG-BILDUNGSFORUM
SUMMARY:CANTIENICA - Exklusiver Kurs: Erwecke die beste Version deines Körpers. (2602953001) 
LOCATION:ASG-G90-E0.01, Gerresheimer Straße 90, 40233 Düsseldorf
END:VEVENT
BEGIN:VEVENT
DTSTAMP:20260422T115231
DTSTART;TZID=Europe/Berlin:20260925T180000
DTEND;TZID=Europe/Berlin:20260925T190000
UID:2602953001-20260925T180000@DÜSSELDORF ASG-BILDUNGSFORUM
SUMMARY:CANTIENICA - Exklusiver Kurs: Erwecke die beste Version deines Körpers. (2602953001) 
LOCATION:ASG-G90-E0.01, Gerresheimer Straße 90, 40233 Düsseldorf
END:VEVENT
BEGIN:VEVENT
DTSTAMP:20260422T115231
DTSTART;TZID=Europe/Berlin:20261002T180000
DTEND;TZID=Europe/Berlin:20261002T190000
UID:2602953001-20261002T180000@DÜSSELDORF ASG-BILDUNGSFORUM
SUMMARY:CANTIENICA - Exklusiver Kurs: Erwecke die beste Version deines Körpers. (2602953001) 
LOCATION:ASG-G90-E0.01, Gerresheimer Straße 90, 40233 Düsseldorf
END:VEVENT
BEGIN:VEVENT
DTSTAMP:20260422T115231
DTSTART;TZID=Europe/Berlin:20261009T180000
DTEND;TZID=Europe/Berlin:20261009T190000
UID:2602953001-20261009T180000@DÜSSELDORF ASG-BILDUNGSFORUM
SUMMARY:CANTIENICA - Exklusiver Kurs: Erwecke die beste Version deines Körpers. (2602953001) 
LOCATION:ASG-G90-E0.01, Gerresheimer Straße 90, 40233 Düsseldorf
END:VEVENT
BEGIN:VEVENT
DTSTAMP:20260422T115231
DTSTART;TZID=Europe/Berlin:20261030T180000
DTEND;TZID=Europe/Berlin:20261030T190000
UID:2602953001-20261030T180000@DÜSSELDORF ASG-BILDUNGSFORUM
SUMMARY:CANTIENICA - Exklusiver Kurs: Erwecke die beste Version deines Körpers. (2602953001) 
LOCATION:ASG-G90-E0.01, Gerresheimer Straße 90, 40233 Düsseldorf
END:VEVENT
BEGIN:VEVENT
DTSTAMP:20260422T115231
DTSTART;TZID=Europe/Berlin:20261106T180000
DTEND;TZID=Europe/Berlin:20261106T190000
UID:2602953001-20261106T180000@DÜSSELDORF ASG-BILDUNGSFORUM
SUMMARY:CANTIENICA - Exklusiver Kurs: Erwecke die beste Version deines Körpers. (2602953001) 
LOCATION:ASG-G90-E0.01, Gerresheimer Straße 90, 40233 Düsseldorf
END:VEVENT
BEGIN:VEVENT
DTSTAMP:20260422T115231
DTSTART;TZID=Europe/Berlin:20261113T180000
DTEND;TZID=Europe/Berlin:20261113T190000
UID:2602953001-20261113T180000@DÜSSELDORF ASG-BILDUNGSFORUM
SUMMARY:CANTIENICA - Exklusiver Kurs: Erwecke die beste Version deines Körpers. (2602953001) 
LOCATION:ASG-G90-E0.01, Gerresheimer Straße 90, 40233 Düsseldorf
END:VEVENT
BEGIN:VEVENT
DTSTAMP:20260422T115231
DTSTART;TZID=Europe/Berlin:20261120T180000
DTEND;TZID=Europe/Berlin:20261120T190000
UID:2602953001-20261120T180000@DÜSSELDORF ASG-BILDUNGSFORUM
SUMMARY:CANTIENICA - Exklusiver Kurs: Erwecke die beste Version deines Körpers. (2602953001) 
LOCATION:ASG-G90-E0.01, Gerresheimer Straße 90, 40233 Düsseldorf
END:VEVENT
BEGIN:VEVENT
DTSTAMP:20260422T115231
DTSTART;TZID=Europe/Berlin:20261127T180000
DTEND;TZID=Europe/Berlin:20261127T190000
UID:2602953001-20261127T180000@DÜSSELDORF ASG-BILDUNGSFORUM
SUMMARY:CANTIENICA - Exklusiver Kurs: Erwecke die beste Version deines Körpers. (2602953001) 
LOCATION:ASG-G90-E0.01, Gerresheimer Straße 90, 40233 Düsseldorf
END:VEVENT
BEGIN:VEVENT
DTSTAMP:20260422T115231
DTSTART;TZID=Europe/Berlin:20261204T180000
DTEND;TZID=Europe/Berlin:20261204T190000
UID:2602953001-20261204T180000@DÜSSELDORF ASG-BILDUNGSFORUM
SUMMARY:CANTIENICA - Exklusiver Kurs: Erwecke die beste Version deines Körpers. (2602953001) 
LOCATION:ASG-G90-E0.01, Gerresheimer Straße 90, 40233 Düsseldorf
END:VEVENT
BEGIN:VEVENT
DTSTAMP:20260422T115231
DTSTART;TZID=Europe/Berlin:20261211T180000
DTEND;TZID=Europe/Berlin:20261211T190000
UID:2602953001-20261211T180000@DÜSSELDORF ASG-BILDUNGSFORUM
SUMMARY:CANTIENICA - Exklusiver Kurs: Erwecke die beste Version deines Körpers. (2602953001) 
LOCATION:ASG-G90-E0.01, Gerresheimer Straße 90, 40233 Düsseldorf
END:VEVENT
BEGIN:VEVENT
DTSTAMP:20260422T115231
DTSTART;TZID=Europe/Berlin:20261218T180000
DTEND;TZID=Europe/Berlin:20261218T190000
UID:2602953001-20261218T180000@DÜSSELDORF ASG-BILDUNGSFORUM
SUMMARY:CANTIENICA - Exklusiver Kurs: Erwecke die beste Version deines Körpers. (2602953001) 
LOCATION:ASG-G90-E0.01, Gerresheimer Straße 90, 40233 Düsseldorf
END:VEVENT
END:VCALENDAR