BEGIN:VCALENDAR
VERSION:2.0
PRODID:https://www.kufer.de/kuferweb / DE
METHOD:PUBLISH
CALSCALE:GREGORIAN
X-WR-TIMEZONE:Europe/Berlin
BEGIN:VTIMEZONE
TZID:Europe/Berlin
X-LIC-LOCATION:Europe/Berlin
BEGIN:DAYLIGHT
TZOFFSETFROM:+0100
TZOFFSETTO:+0200
TZNAME:CEST
DTSTART:19700329T020000
RRULE:FREQ=YEARLY;INTERVAL=1;BYDAY=-1SU;BYMONTH=3
END:DAYLIGHT
BEGIN:STANDARD
TZOFFSETFROM:+0200
TZOFFSETTO:+0100
TZNAME:CET
DTSTART:19701025T030000
RRULE:FREQ=YEARLY;INTERVAL=1;BYDAY=-1SU;BYMONTH=10
END:STANDARD
END:VTIMEZONE
BEGIN:VEVENT
DTSTAMP:20260422T215333
DTSTART;TZID=Europe/Berlin:20270405T084500
DTEND;TZID=Europe/Berlin:20270405T124500
UID:2701813820-20270405T084500@DÜSSELDORF ASG-BILDUNGSFORUM
SUMMARY:Geringliteralisiertenkurs - Orientierungskurs (2701813820) 
LOCATION:ASG-W4;1.26, Werdener Straße 4, 40227 Düsseldorf
END:VEVENT
BEGIN:VEVENT
DTSTAMP:20260422T215333
DTSTART;TZID=Europe/Berlin:20270406T084500
DTEND;TZID=Europe/Berlin:20270406T124500
UID:2701813820-20270406T084500@DÜSSELDORF ASG-BILDUNGSFORUM
SUMMARY:Geringliteralisiertenkurs - Orientierungskurs (2701813820) 
LOCATION:ASG-W4;1.26, Werdener Straße 4, 40227 Düsseldorf
END:VEVENT
BEGIN:VEVENT
DTSTAMP:20260422T215333
DTSTART;TZID=Europe/Berlin:20270407T084500
DTEND;TZID=Europe/Berlin:20270407T124500
UID:2701813820-20270407T084500@DÜSSELDORF ASG-BILDUNGSFORUM
SUMMARY:Geringliteralisiertenkurs - Orientierungskurs (2701813820) 
LOCATION:ASG-W4;1.26, Werdener Straße 4, 40227 Düsseldorf
END:VEVENT
BEGIN:VEVENT
DTSTAMP:20260422T215333
DTSTART;TZID=Europe/Berlin:20270408T084500
DTEND;TZID=Europe/Berlin:20270408T124500
UID:2701813820-20270408T084500@DÜSSELDORF ASG-BILDUNGSFORUM
SUMMARY:Geringliteralisiertenkurs - Orientierungskurs (2701813820) 
LOCATION:ASG-W4;1.26, Werdener Straße 4, 40227 Düsseldorf
END:VEVENT
BEGIN:VEVENT
DTSTAMP:20260422T215333
DTSTART;TZID=Europe/Berlin:20270412T084500
DTEND;TZID=Europe/Berlin:20270412T124500
UID:2701813820-20270412T084500@DÜSSELDORF ASG-BILDUNGSFORUM
SUMMARY:Geringliteralisiertenkurs - Orientierungskurs (2701813820) 
LOCATION:ASG-W4;1.26, Werdener Straße 4, 40227 Düsseldorf
END:VEVENT
BEGIN:VEVENT
DTSTAMP:20260422T215333
DTSTART;TZID=Europe/Berlin:20270413T084500
DTEND;TZID=Europe/Berlin:20270413T124500
UID:2701813820-20270413T084500@DÜSSELDORF ASG-BILDUNGSFORUM
SUMMARY:Geringliteralisiertenkurs - Orientierungskurs (2701813820) 
LOCATION:ASG-W4;1.26, Werdener Straße 4, 40227 Düsseldorf
END:VEVENT
BEGIN:VEVENT
DTSTAMP:20260422T215333
DTSTART;TZID=Europe/Berlin:20270414T084500
DTEND;TZID=Europe/Berlin:20270414T124500
UID:2701813820-20270414T084500@DÜSSELDORF ASG-BILDUNGSFORUM
SUMMARY:Geringliteralisiertenkurs - Orientierungskurs (2701813820) 
LOCATION:ASG-W4;1.26, Werdener Straße 4, 40227 Düsseldorf
END:VEVENT
BEGIN:VEVENT
DTSTAMP:20260422T215333
DTSTART;TZID=Europe/Berlin:20270415T084500
DTEND;TZID=Europe/Berlin:20270415T124500
UID:2701813820-20270415T084500@DÜSSELDORF ASG-BILDUNGSFORUM
SUMMARY:Geringliteralisiertenkurs - Orientierungskurs (2701813820) 
LOCATION:ASG-W4;1.26, Werdener Straße 4, 40227 Düsseldorf
END:VEVENT
BEGIN:VEVENT
DTSTAMP:20260422T215333
DTSTART;TZID=Europe/Berlin:20270419T084500
DTEND;TZID=Europe/Berlin:20270419T124500
UID:2701813820-20270419T084500@DÜSSELDORF ASG-BILDUNGSFORUM
SUMMARY:Geringliteralisiertenkurs - Orientierungskurs (2701813820) 
LOCATION:ASG-W4;1.26, Werdener Straße 4, 40227 Düsseldorf
END:VEVENT
BEGIN:VEVENT
DTSTAMP:20260422T215333
DTSTART;TZID=Europe/Berlin:20270420T084500
DTEND;TZID=Europe/Berlin:20270420T124500
UID:2701813820-20270420T084500@DÜSSELDORF ASG-BILDUNGSFORUM
SUMMARY:Geringliteralisiertenkurs - Orientierungskurs (2701813820) 
LOCATION:ASG-W4;1.26, Werdener Straße 4, 40227 Düsseldorf
END:VEVENT
BEGIN:VEVENT
DTSTAMP:20260422T215333
DTSTART;TZID=Europe/Berlin:20270421T084500
DTEND;TZID=Europe/Berlin:20270421T124500
UID:2701813820-20270421T084500@DÜSSELDORF ASG-BILDUNGSFORUM
SUMMARY:Geringliteralisiertenkurs - Orientierungskurs (2701813820) 
LOCATION:ASG-W4;1.26, Werdener Straße 4, 40227 Düsseldorf
END:VEVENT
BEGIN:VEVENT
DTSTAMP:20260422T215333
DTSTART;TZID=Europe/Berlin:20270422T084500
DTEND;TZID=Europe/Berlin:20270422T124500
UID:2701813820-20270422T084500@DÜSSELDORF ASG-BILDUNGSFORUM
SUMMARY:Geringliteralisiertenkurs - Orientierungskurs (2701813820) 
LOCATION:ASG-W4;1.26, Werdener Straße 4, 40227 Düsseldorf
END:VEVENT
BEGIN:VEVENT
DTSTAMP:20260422T215333
DTSTART;TZID=Europe/Berlin:20270423T084500
DTEND;TZID=Europe/Berlin:20270423T124500
UID:2701813820-20270423T084500@DÜSSELDORF ASG-BILDUNGSFORUM
DESCRIPTION:Zusatztag für Christi Himmerfahrt
SUMMARY:Geringliteralisiertenkurs - Orientierungskurs (2701813820) 
LOCATION:ASG-W4;1.26, Werdener Straße 4, 40227 Düsseldorf
END:VEVENT
BEGIN:VEVENT
DTSTAMP:20260422T215333
DTSTART;TZID=Europe/Berlin:20270426T084500
DTEND;TZID=Europe/Berlin:20270426T124500
UID:2701813820-20270426T084500@DÜSSELDORF ASG-BILDUNGSFORUM
SUMMARY:Geringliteralisiertenkurs - Orientierungskurs (2701813820) 
LOCATION:ASG-W4;1.26, Werdener Straße 4, 40227 Düsseldorf
END:VEVENT
BEGIN:VEVENT
DTSTAMP:20260422T215333
DTSTART;TZID=Europe/Berlin:20270427T084500
DTEND;TZID=Europe/Berlin:20270427T124500
UID:2701813820-20270427T084500@DÜSSELDORF ASG-BILDUNGSFORUM
SUMMARY:Geringliteralisiertenkurs - Orientierungskurs (2701813820) 
LOCATION:ASG-W4;1.26, Werdener Straße 4, 40227 Düsseldorf
END:VEVENT
BEGIN:VEVENT
DTSTAMP:20260422T215333
DTSTART;TZID=Europe/Berlin:20270428T084500
DTEND;TZID=Europe/Berlin:20270428T124500
UID:2701813820-20270428T084500@DÜSSELDORF ASG-BILDUNGSFORUM
SUMMARY:Geringliteralisiertenkurs - Orientierungskurs (2701813820) 
LOCATION:ASG-W4;1.26, Werdener Straße 4, 40227 Düsseldorf
END:VEVENT
BEGIN:VEVENT
DTSTAMP:20260422T215333
DTSTART;TZID=Europe/Berlin:20270429T084500
DTEND;TZID=Europe/Berlin:20270429T124500
UID:2701813820-20270429T084500@DÜSSELDORF ASG-BILDUNGSFORUM
SUMMARY:Geringliteralisiertenkurs - Orientierungskurs (2701813820) 
LOCATION:ASG-W4;1.26, Werdener Straße 4, 40227 Düsseldorf
END:VEVENT
BEGIN:VEVENT
DTSTAMP:20260422T215333
DTSTART;TZID=Europe/Berlin:20270503T084500
DTEND;TZID=Europe/Berlin:20270503T124500
UID:2701813820-20270503T084500@DÜSSELDORF ASG-BILDUNGSFORUM
SUMMARY:Geringliteralisiertenkurs - Orientierungskurs (2701813820) 
LOCATION:ASG-W4;1.26, Werdener Straße 4, 40227 Düsseldorf
END:VEVENT
BEGIN:VEVENT
DTSTAMP:20260422T215333
DTSTART;TZID=Europe/Berlin:20270504T084500
DTEND;TZID=Europe/Berlin:20270504T124500
UID:2701813820-20270504T084500@DÜSSELDORF ASG-BILDUNGSFORUM
SUMMARY:Geringliteralisiertenkurs - Orientierungskurs (2701813820) 
LOCATION:ASG-W4;1.26, Werdener Straße 4, 40227 Düsseldorf
END:VEVENT
BEGIN:VEVENT
DTSTAMP:20260422T215333
DTSTART;TZID=Europe/Berlin:20270505T084500
DTEND;TZID=Europe/Berlin:20270505T124500
UID:2701813820-20270505T084500@DÜSSELDORF ASG-BILDUNGSFORUM
SUMMARY:Geringliteralisiertenkurs - Orientierungskurs (2701813820) 
LOCATION:ASG-W4;1.26, Werdener Straße 4, 40227 Düsseldorf
END:VEVENT
END:VCALENDAR