BEGIN:VCALENDAR
VERSION:2.0
PRODID:https://www.kufer.de/kuferweb / DE
METHOD:PUBLISH
CALSCALE:GREGORIAN
X-WR-TIMEZONE:Europe/Berlin
BEGIN:VTIMEZONE
TZID:Europe/Berlin
X-LIC-LOCATION:Europe/Berlin
BEGIN:DAYLIGHT
TZOFFSETFROM:+0100
TZOFFSETTO:+0200
TZNAME:CEST
DTSTART:19700329T020000
RRULE:FREQ=YEARLY;INTERVAL=1;BYDAY=-1SU;BYMONTH=3
END:DAYLIGHT
BEGIN:STANDARD
TZOFFSETFROM:+0200
TZOFFSETTO:+0100
TZNAME:CET
DTSTART:19701025T030000
RRULE:FREQ=YEARLY;INTERVAL=1;BYDAY=-1SU;BYMONTH=10
END:STANDARD
END:VTIMEZONE
BEGIN:VEVENT
DTSTAMP:20260422T215756
DTSTART;TZID=Europe/Berlin:20270111T090000
DTEND;TZID=Europe/Berlin:20270111T130000
UID:2701813828-20270111T090000@DÜSSELDORF ASG-BILDUNGSFORUM
SUMMARY:Geringliteralisiertenkurs Modul 8 (2701813828) 
LOCATION:ASG-W4;1.26, Werdener Straße 4, 40227 Düsseldorf
END:VEVENT
BEGIN:VEVENT
DTSTAMP:20260422T215756
DTSTART;TZID=Europe/Berlin:20270112T090000
DTEND;TZID=Europe/Berlin:20270112T130000
UID:2701813828-20270112T090000@DÜSSELDORF ASG-BILDUNGSFORUM
SUMMARY:Geringliteralisiertenkurs Modul 8 (2701813828) 
LOCATION:ASG-W4;1.26, Werdener Straße 4, 40227 Düsseldorf
END:VEVENT
BEGIN:VEVENT
DTSTAMP:20260422T215756
DTSTART;TZID=Europe/Berlin:20270113T090000
DTEND;TZID=Europe/Berlin:20270113T130000
UID:2701813828-20270113T090000@DÜSSELDORF ASG-BILDUNGSFORUM
SUMMARY:Geringliteralisiertenkurs Modul 8 (2701813828) 
LOCATION:ASG-W4;1.26, Werdener Straße 4, 40227 Düsseldorf
END:VEVENT
BEGIN:VEVENT
DTSTAMP:20260422T215756
DTSTART;TZID=Europe/Berlin:20270114T090000
DTEND;TZID=Europe/Berlin:20270114T130000
UID:2701813828-20270114T090000@DÜSSELDORF ASG-BILDUNGSFORUM
SUMMARY:Geringliteralisiertenkurs Modul 8 (2701813828) 
LOCATION:ASG-W4;1.26, Werdener Straße 4, 40227 Düsseldorf
END:VEVENT
BEGIN:VEVENT
DTSTAMP:20260422T215756
DTSTART;TZID=Europe/Berlin:20270118T090000
DTEND;TZID=Europe/Berlin:20270118T130000
UID:2701813828-20270118T090000@DÜSSELDORF ASG-BILDUNGSFORUM
SUMMARY:Geringliteralisiertenkurs Modul 8 (2701813828) 
LOCATION:ASG-W4;1.26, Werdener Straße 4, 40227 Düsseldorf
END:VEVENT
BEGIN:VEVENT
DTSTAMP:20260422T215756
DTSTART;TZID=Europe/Berlin:20270119T090000
DTEND;TZID=Europe/Berlin:20270119T130000
UID:2701813828-20270119T090000@DÜSSELDORF ASG-BILDUNGSFORUM
SUMMARY:Geringliteralisiertenkurs Modul 8 (2701813828) 
LOCATION:ASG-W4;1.26, Werdener Straße 4, 40227 Düsseldorf
END:VEVENT
BEGIN:VEVENT
DTSTAMP:20260422T215756
DTSTART;TZID=Europe/Berlin:20270120T090000
DTEND;TZID=Europe/Berlin:20270120T130000
UID:2701813828-20270120T090000@DÜSSELDORF ASG-BILDUNGSFORUM
SUMMARY:Geringliteralisiertenkurs Modul 8 (2701813828) 
LOCATION:ASG-W4;1.26, Werdener Straße 4, 40227 Düsseldorf
END:VEVENT
BEGIN:VEVENT
DTSTAMP:20260422T215756
DTSTART;TZID=Europe/Berlin:20270121T090000
DTEND;TZID=Europe/Berlin:20270121T130000
UID:2701813828-20270121T090000@DÜSSELDORF ASG-BILDUNGSFORUM
SUMMARY:Geringliteralisiertenkurs Modul 8 (2701813828) 
LOCATION:ASG-W4;1.26, Werdener Straße 4, 40227 Düsseldorf
END:VEVENT
BEGIN:VEVENT
DTSTAMP:20260422T215756
DTSTART;TZID=Europe/Berlin:20270125T090000
DTEND;TZID=Europe/Berlin:20270125T130000
UID:2701813828-20270125T090000@DÜSSELDORF ASG-BILDUNGSFORUM
SUMMARY:Geringliteralisiertenkurs Modul 8 (2701813828) 
LOCATION:ASG-W4;1.26, Werdener Straße 4, 40227 Düsseldorf
END:VEVENT
BEGIN:VEVENT
DTSTAMP:20260422T215756
DTSTART;TZID=Europe/Berlin:20270126T090000
DTEND;TZID=Europe/Berlin:20270126T130000
UID:2701813828-20270126T090000@DÜSSELDORF ASG-BILDUNGSFORUM
SUMMARY:Geringliteralisiertenkurs Modul 8 (2701813828) 
LOCATION:ASG-W4;1.26, Werdener Straße 4, 40227 Düsseldorf
END:VEVENT
BEGIN:VEVENT
DTSTAMP:20260422T215756
DTSTART;TZID=Europe/Berlin:20270127T090000
DTEND;TZID=Europe/Berlin:20270127T130000
UID:2701813828-20270127T090000@DÜSSELDORF ASG-BILDUNGSFORUM
SUMMARY:Geringliteralisiertenkurs Modul 8 (2701813828) 
LOCATION:ASG-W4;1.26, Werdener Straße 4, 40227 Düsseldorf
END:VEVENT
BEGIN:VEVENT
DTSTAMP:20260422T215756
DTSTART;TZID=Europe/Berlin:20270128T090000
DTEND;TZID=Europe/Berlin:20270128T130000
UID:2701813828-20270128T090000@DÜSSELDORF ASG-BILDUNGSFORUM
SUMMARY:Geringliteralisiertenkurs Modul 8 (2701813828) 
LOCATION:ASG-W4;1.26, Werdener Straße 4, 40227 Düsseldorf
END:VEVENT
BEGIN:VEVENT
DTSTAMP:20260422T215756
DTSTART;TZID=Europe/Berlin:20270201T090000
DTEND;TZID=Europe/Berlin:20270201T130000
UID:2701813828-20270201T090000@DÜSSELDORF ASG-BILDUNGSFORUM
SUMMARY:Geringliteralisiertenkurs Modul 8 (2701813828) 
LOCATION:ASG-W4;1.26, Werdener Straße 4, 40227 Düsseldorf
END:VEVENT
BEGIN:VEVENT
DTSTAMP:20260422T215756
DTSTART;TZID=Europe/Berlin:20270202T090000
DTEND;TZID=Europe/Berlin:20270202T130000
UID:2701813828-20270202T090000@DÜSSELDORF ASG-BILDUNGSFORUM
SUMMARY:Geringliteralisiertenkurs Modul 8 (2701813828) 
LOCATION:ASG-W4;1.26, Werdener Straße 4, 40227 Düsseldorf
END:VEVENT
BEGIN:VEVENT
DTSTAMP:20260422T215756
DTSTART;TZID=Europe/Berlin:20270203T090000
DTEND;TZID=Europe/Berlin:20270203T130000
UID:2701813828-20270203T090000@DÜSSELDORF ASG-BILDUNGSFORUM
SUMMARY:Geringliteralisiertenkurs Modul 8 (2701813828) 
LOCATION:ASG-W4;1.26, Werdener Straße 4, 40227 Düsseldorf
END:VEVENT
BEGIN:VEVENT
DTSTAMP:20260422T215756
DTSTART;TZID=Europe/Berlin:20270204T090000
DTEND;TZID=Europe/Berlin:20270204T130000
UID:2701813828-20270204T090000@DÜSSELDORF ASG-BILDUNGSFORUM
SUMMARY:Geringliteralisiertenkurs Modul 8 (2701813828) 
LOCATION:ASG-W4;1.26, Werdener Straße 4, 40227 Düsseldorf
END:VEVENT
BEGIN:VEVENT
DTSTAMP:20260422T215756
DTSTART;TZID=Europe/Berlin:20270209T090000
DTEND;TZID=Europe/Berlin:20270209T130000
UID:2701813828-20270209T090000@DÜSSELDORF ASG-BILDUNGSFORUM
SUMMARY:Geringliteralisiertenkurs Modul 8 (2701813828) 
LOCATION:ASG-W4;1.26, Werdener Straße 4, 40227 Düsseldorf
END:VEVENT
BEGIN:VEVENT
DTSTAMP:20260422T215756
DTSTART;TZID=Europe/Berlin:20270210T090000
DTEND;TZID=Europe/Berlin:20270210T130000
UID:2701813828-20270210T090000@DÜSSELDORF ASG-BILDUNGSFORUM
SUMMARY:Geringliteralisiertenkurs Modul 8 (2701813828) 
LOCATION:ASG-W4;1.26, Werdener Straße 4, 40227 Düsseldorf
END:VEVENT
BEGIN:VEVENT
DTSTAMP:20260422T215756
DTSTART;TZID=Europe/Berlin:20270211T090000
DTEND;TZID=Europe/Berlin:20270211T130000
UID:2701813828-20270211T090000@DÜSSELDORF ASG-BILDUNGSFORUM
SUMMARY:Geringliteralisiertenkurs Modul 8 (2701813828) 
LOCATION:ASG-W4;1.26, Werdener Straße 4, 40227 Düsseldorf
END:VEVENT
BEGIN:VEVENT
DTSTAMP:20260422T215756
DTSTART;TZID=Europe/Berlin:20270212T090000
DTEND;TZID=Europe/Berlin:20270212T130000
UID:2701813828-20270212T090000@DÜSSELDORF ASG-BILDUNGSFORUM
DESCRIPTION:Zusatztag für Rosenmontag
SUMMARY:Geringliteralisiertenkurs Modul 8 (2701813828) 
LOCATION:ASG-W4;1.26, Werdener Straße 4, 40227 Düsseldorf
END:VEVENT
END:VCALENDAR