BEGIN:VCALENDAR
VERSION:2.0
PRODID:https://www.kufer.de/kuferweb / DE
METHOD:PUBLISH
CALSCALE:GREGORIAN
X-WR-TIMEZONE:Europe/Berlin
BEGIN:VTIMEZONE
TZID:Europe/Berlin
X-LIC-LOCATION:Europe/Berlin
BEGIN:DAYLIGHT
TZOFFSETFROM:+0100
TZOFFSETTO:+0200
TZNAME:CEST
DTSTART:19700329T020000
RRULE:FREQ=YEARLY;INTERVAL=1;BYDAY=-1SU;BYMONTH=3
END:DAYLIGHT
BEGIN:STANDARD
TZOFFSETFROM:+0200
TZOFFSETTO:+0100
TZNAME:CET
DTSTART:19701025T030000
RRULE:FREQ=YEARLY;INTERVAL=1;BYDAY=-1SU;BYMONTH=10
END:STANDARD
END:VTIMEZONE
BEGIN:VEVENT
DTSTAMP:20260423T031212
DTSTART;TZID=Europe/Berlin:20270222T180000
DTEND;TZID=Europe/Berlin:20270222T211500
UID:2701813857-20270222T180000@DÜSSELDORF ASG-BILDUNGSFORUM
SUMMARY:Deutsch als Fremdsprache Kurs: Leben in Deutschland (2701813857) 
LOCATION:ASG-W4;1.06, Werdener Straße 4, 40227 Düsseldorf
END:VEVENT
BEGIN:VEVENT
DTSTAMP:20260423T031212
DTSTART;TZID=Europe/Berlin:20270223T180000
DTEND;TZID=Europe/Berlin:20270223T211500
UID:2701813857-20270223T180000@DÜSSELDORF ASG-BILDUNGSFORUM
SUMMARY:Deutsch als Fremdsprache Kurs: Leben in Deutschland (2701813857) 
LOCATION:ASG-W4;1.06, Werdener Straße 4, 40227 Düsseldorf
END:VEVENT
BEGIN:VEVENT
DTSTAMP:20260423T031212
DTSTART;TZID=Europe/Berlin:20270224T180000
DTEND;TZID=Europe/Berlin:20270224T211500
UID:2701813857-20270224T180000@DÜSSELDORF ASG-BILDUNGSFORUM
SUMMARY:Deutsch als Fremdsprache Kurs: Leben in Deutschland (2701813857) 
LOCATION:ASG-W4;1.06, Werdener Straße 4, 40227 Düsseldorf
END:VEVENT
BEGIN:VEVENT
DTSTAMP:20260423T031212
DTSTART;TZID=Europe/Berlin:20270301T180000
DTEND;TZID=Europe/Berlin:20270301T211500
UID:2701813857-20270301T180000@DÜSSELDORF ASG-BILDUNGSFORUM
SUMMARY:Deutsch als Fremdsprache Kurs: Leben in Deutschland (2701813857) 
LOCATION:ASG-W4;1.06, Werdener Straße 4, 40227 Düsseldorf
END:VEVENT
BEGIN:VEVENT
DTSTAMP:20260423T031212
DTSTART;TZID=Europe/Berlin:20270302T180000
DTEND;TZID=Europe/Berlin:20270302T211500
UID:2701813857-20270302T180000@DÜSSELDORF ASG-BILDUNGSFORUM
SUMMARY:Deutsch als Fremdsprache Kurs: Leben in Deutschland (2701813857) 
LOCATION:ASG-W4;1.06, Werdener Straße 4, 40227 Düsseldorf
END:VEVENT
BEGIN:VEVENT
DTSTAMP:20260423T031212
DTSTART;TZID=Europe/Berlin:20270303T180000
DTEND;TZID=Europe/Berlin:20270303T211500
UID:2701813857-20270303T180000@DÜSSELDORF ASG-BILDUNGSFORUM
SUMMARY:Deutsch als Fremdsprache Kurs: Leben in Deutschland (2701813857) 
LOCATION:ASG-W4;1.06, Werdener Straße 4, 40227 Düsseldorf
END:VEVENT
BEGIN:VEVENT
DTSTAMP:20260423T031212
DTSTART;TZID=Europe/Berlin:20270308T180000
DTEND;TZID=Europe/Berlin:20270308T211500
UID:2701813857-20270308T180000@DÜSSELDORF ASG-BILDUNGSFORUM
SUMMARY:Deutsch als Fremdsprache Kurs: Leben in Deutschland (2701813857) 
LOCATION:ASG-W4;1.06, Werdener Straße 4, 40227 Düsseldorf
END:VEVENT
BEGIN:VEVENT
DTSTAMP:20260423T031212
DTSTART;TZID=Europe/Berlin:20270309T180000
DTEND;TZID=Europe/Berlin:20270309T211500
UID:2701813857-20270309T180000@DÜSSELDORF ASG-BILDUNGSFORUM
SUMMARY:Deutsch als Fremdsprache Kurs: Leben in Deutschland (2701813857) 
LOCATION:ASG-W4;1.06, Werdener Straße 4, 40227 Düsseldorf
END:VEVENT
BEGIN:VEVENT
DTSTAMP:20260423T031212
DTSTART;TZID=Europe/Berlin:20270310T180000
DTEND;TZID=Europe/Berlin:20270310T211500
UID:2701813857-20270310T180000@DÜSSELDORF ASG-BILDUNGSFORUM
SUMMARY:Deutsch als Fremdsprache Kurs: Leben in Deutschland (2701813857) 
LOCATION:ASG-W4;1.06, Werdener Straße 4, 40227 Düsseldorf
END:VEVENT
BEGIN:VEVENT
DTSTAMP:20260423T031212
DTSTART;TZID=Europe/Berlin:20270315T180000
DTEND;TZID=Europe/Berlin:20270315T211500
UID:2701813857-20270315T180000@DÜSSELDORF ASG-BILDUNGSFORUM
SUMMARY:Deutsch als Fremdsprache Kurs: Leben in Deutschland (2701813857) 
LOCATION:ASG-W4;1.06, Werdener Straße 4, 40227 Düsseldorf
END:VEVENT
BEGIN:VEVENT
DTSTAMP:20260423T031212
DTSTART;TZID=Europe/Berlin:20270316T180000
DTEND;TZID=Europe/Berlin:20270316T211500
UID:2701813857-20270316T180000@DÜSSELDORF ASG-BILDUNGSFORUM
SUMMARY:Deutsch als Fremdsprache Kurs: Leben in Deutschland (2701813857) 
LOCATION:ASG-W4;1.06, Werdener Straße 4, 40227 Düsseldorf
END:VEVENT
BEGIN:VEVENT
DTSTAMP:20260423T031212
DTSTART;TZID=Europe/Berlin:20270317T180000
DTEND;TZID=Europe/Berlin:20270317T211500
UID:2701813857-20270317T180000@DÜSSELDORF ASG-BILDUNGSFORUM
SUMMARY:Deutsch als Fremdsprache Kurs: Leben in Deutschland (2701813857) 
LOCATION:ASG-W4;1.06, Werdener Straße 4, 40227 Düsseldorf
END:VEVENT
BEGIN:VEVENT
DTSTAMP:20260423T031212
DTSTART;TZID=Europe/Berlin:20270322T180000
DTEND;TZID=Europe/Berlin:20270322T211500
UID:2701813857-20270322T180000@DÜSSELDORF ASG-BILDUNGSFORUM
SUMMARY:Deutsch als Fremdsprache Kurs: Leben in Deutschland (2701813857) 
LOCATION:ASG-W4;1.06, Werdener Straße 4, 40227 Düsseldorf
END:VEVENT
BEGIN:VEVENT
DTSTAMP:20260423T031212
DTSTART;TZID=Europe/Berlin:20270323T180000
DTEND;TZID=Europe/Berlin:20270323T211500
UID:2701813857-20270323T180000@DÜSSELDORF ASG-BILDUNGSFORUM
SUMMARY:Deutsch als Fremdsprache Kurs: Leben in Deutschland (2701813857) 
LOCATION:ASG-W4;1.06, Werdener Straße 4, 40227 Düsseldorf
END:VEVENT
BEGIN:VEVENT
DTSTAMP:20260423T031212
DTSTART;TZID=Europe/Berlin:20270324T180000
DTEND;TZID=Europe/Berlin:20270324T211500
UID:2701813857-20270324T180000@DÜSSELDORF ASG-BILDUNGSFORUM
SUMMARY:Deutsch als Fremdsprache Kurs: Leben in Deutschland (2701813857) 
LOCATION:ASG-W4;1.06, Werdener Straße 4, 40227 Düsseldorf
END:VEVENT
BEGIN:VEVENT
DTSTAMP:20260423T031212
DTSTART;TZID=Europe/Berlin:20270329T180000
DTEND;TZID=Europe/Berlin:20270329T211500
UID:2701813857-20270329T180000@DÜSSELDORF ASG-BILDUNGSFORUM
SUMMARY:Deutsch als Fremdsprache Kurs: Leben in Deutschland (2701813857) 
LOCATION:ASG-W4;1.06, Werdener Straße 4, 40227 Düsseldorf
END:VEVENT
BEGIN:VEVENT
DTSTAMP:20260423T031212
DTSTART;TZID=Europe/Berlin:20270330T180000
DTEND;TZID=Europe/Berlin:20270330T211500
UID:2701813857-20270330T180000@DÜSSELDORF ASG-BILDUNGSFORUM
SUMMARY:Deutsch als Fremdsprache Kurs: Leben in Deutschland (2701813857) 
LOCATION:ASG-W4;1.06, Werdener Straße 4, 40227 Düsseldorf
END:VEVENT
BEGIN:VEVENT
DTSTAMP:20260423T031212
DTSTART;TZID=Europe/Berlin:20270331T180000
DTEND;TZID=Europe/Berlin:20270331T211500
UID:2701813857-20270331T180000@DÜSSELDORF ASG-BILDUNGSFORUM
SUMMARY:Deutsch als Fremdsprache Kurs: Leben in Deutschland (2701813857) 
LOCATION:ASG-W4;1.06, Werdener Straße 4, 40227 Düsseldorf
END:VEVENT
BEGIN:VEVENT
DTSTAMP:20260423T031212
DTSTART;TZID=Europe/Berlin:20270405T180000
DTEND;TZID=Europe/Berlin:20270405T211500
UID:2701813857-20270405T180000@DÜSSELDORF ASG-BILDUNGSFORUM
SUMMARY:Deutsch als Fremdsprache Kurs: Leben in Deutschland (2701813857) 
LOCATION:ASG-W4;1.06, Werdener Straße 4, 40227 Düsseldorf
END:VEVENT
BEGIN:VEVENT
DTSTAMP:20260423T031212
DTSTART;TZID=Europe/Berlin:20270406T180000
DTEND;TZID=Europe/Berlin:20270406T211500
UID:2701813857-20270406T180000@DÜSSELDORF ASG-BILDUNGSFORUM
SUMMARY:Deutsch als Fremdsprache Kurs: Leben in Deutschland (2701813857) 
LOCATION:ASG-W4;1.06, Werdener Straße 4, 40227 Düsseldorf
END:VEVENT
BEGIN:VEVENT
DTSTAMP:20260423T031212
DTSTART;TZID=Europe/Berlin:20270407T180000
DTEND;TZID=Europe/Berlin:20270407T211500
UID:2701813857-20270407T180000@DÜSSELDORF ASG-BILDUNGSFORUM
SUMMARY:Deutsch als Fremdsprache Kurs: Leben in Deutschland (2701813857) 
LOCATION:ASG-W4;1.06, Werdener Straße 4, 40227 Düsseldorf
END:VEVENT
BEGIN:VEVENT
DTSTAMP:20260423T031212
DTSTART;TZID=Europe/Berlin:20270412T180000
DTEND;TZID=Europe/Berlin:20270412T211500
UID:2701813857-20270412T180000@DÜSSELDORF ASG-BILDUNGSFORUM
SUMMARY:Deutsch als Fremdsprache Kurs: Leben in Deutschland (2701813857) 
LOCATION:ASG-W4;1.06, Werdener Straße 4, 40227 Düsseldorf
END:VEVENT
BEGIN:VEVENT
DTSTAMP:20260423T031212
DTSTART;TZID=Europe/Berlin:20270413T180000
DTEND;TZID=Europe/Berlin:20270413T211500
UID:2701813857-20270413T180000@DÜSSELDORF ASG-BILDUNGSFORUM
SUMMARY:Deutsch als Fremdsprache Kurs: Leben in Deutschland (2701813857) 
LOCATION:ASG-W4;1.06, Werdener Straße 4, 40227 Düsseldorf
END:VEVENT
BEGIN:VEVENT
DTSTAMP:20260423T031212
DTSTART;TZID=Europe/Berlin:20270414T180000
DTEND;TZID=Europe/Berlin:20270414T211500
UID:2701813857-20270414T180000@DÜSSELDORF ASG-BILDUNGSFORUM
SUMMARY:Deutsch als Fremdsprache Kurs: Leben in Deutschland (2701813857) 
LOCATION:ASG-W4;1.06, Werdener Straße 4, 40227 Düsseldorf
END:VEVENT
BEGIN:VEVENT
DTSTAMP:20260423T031212
DTSTART;TZID=Europe/Berlin:20270419T180000
DTEND;TZID=Europe/Berlin:20270419T211500
UID:2701813857-20270419T180000@DÜSSELDORF ASG-BILDUNGSFORUM
SUMMARY:Deutsch als Fremdsprache Kurs: Leben in Deutschland (2701813857) 
LOCATION:ASG-W4;1.06, Werdener Straße 4, 40227 Düsseldorf
END:VEVENT
END:VCALENDAR